BEGIN:VCALENDAR
VERSION:2.0
PRODID:-//Paul Memorial Library - ECPv6.15.20//NONSGML v1.0//EN
CALSCALE:GREGORIAN
METHOD:PUBLISH
X-ORIGINAL-URL:https://newfieldslibrary.org
X-WR-CALDESC:Events for Paul Memorial Library
REFRESH-INTERVAL;VALUE=DURATION:PT1H
X-Robots-Tag:noindex
X-PUBLISHED-TTL:PT1H
BEGIN:VTIMEZONE
TZID:America/New_York
BEGIN:DAYLIGHT
TZOFFSETFROM:-0500
TZOFFSETTO:-0400
TZNAME:EDT
DTSTART:20240310T070000
END:DAYLIGHT
BEGIN:STANDARD
TZOFFSETFROM:-0400
TZOFFSETTO:-0500
TZNAME:EST
DTSTART:20241103T060000
END:STANDARD
BEGIN:DAYLIGHT
TZOFFSETFROM:-0500
TZOFFSETTO:-0400
TZNAME:EDT
DTSTART:20250309T070000
END:DAYLIGHT
BEGIN:STANDARD
TZOFFSETFROM:-0400
TZOFFSETTO:-0500
TZNAME:EST
DTSTART:20251102T060000
END:STANDARD
BEGIN:DAYLIGHT
TZOFFSETFROM:-0500
TZOFFSETTO:-0400
TZNAME:EDT
DTSTART:20260308T070000
END:DAYLIGHT
BEGIN:STANDARD
TZOFFSETFROM:-0400
TZOFFSETTO:-0500
TZNAME:EST
DTSTART:20261101T060000
END:STANDARD
END:VTIMEZONE
BEGIN:VEVENT
DTSTART;TZID=America/New_York:20251223T180000
DTEND;TZID=America/New_York:20251223T184500
DTSTAMP:20260420T041600
CREATED:20251129T192024Z
LAST-MODIFIED:20251211T152005Z
UID:17032-1766512800-1766515500@newfieldslibrary.org
SUMMARY:PJ Story Time
DESCRIPTION:Join us at the Library on Thursday\, April 16 from 6-8pm for an interactive workshop with expert trainer Neil Kutzen.  Learn the best method for remembering any of your favorite … Continue reading How to Memorize Anything Workshop
URL:https://newfieldslibrary.org/event/17032/
LOCATION:Paul Memorial Library\, 76 Main Street\, Newfields
CATEGORIES:Story Times
ATTACH;FMTTYPE=image/png:https://newfieldslibrary.org/wp-content/uploads/2025/11/Evening-Story-Time-Poster.png
ORGANIZER;CN="Paul Memorial Library":MAILTO:staff@newfieldslibrary.org
END:VEVENT
END:VCALENDAR