BEGIN:VCALENDAR
VERSION:2.0
PRODID:-//Paul Memorial Library - ECPv6.15.20//NONSGML v1.0//EN
CALSCALE:GREGORIAN
METHOD:PUBLISH
X-WR-CALNAME:Paul Memorial Library
X-ORIGINAL-URL:https://newfieldslibrary.org
X-WR-CALDESC:Events for Paul Memorial Library
REFRESH-INTERVAL;VALUE=DURATION:PT1H
X-Robots-Tag:noindex
X-PUBLISHED-TTL:PT1H
BEGIN:VTIMEZONE
TZID:America/New_York
BEGIN:DAYLIGHT
TZOFFSETFROM:-0500
TZOFFSETTO:-0400
TZNAME:EDT
DTSTART:20220313T070000
END:DAYLIGHT
BEGIN:STANDARD
TZOFFSETFROM:-0400
TZOFFSETTO:-0500
TZNAME:EST
DTSTART:20221106T060000
END:STANDARD
BEGIN:DAYLIGHT
TZOFFSETFROM:-0500
TZOFFSETTO:-0400
TZNAME:EDT
DTSTART:20230312T070000
END:DAYLIGHT
BEGIN:STANDARD
TZOFFSETFROM:-0400
TZOFFSETTO:-0500
TZNAME:EST
DTSTART:20231105T060000
END:STANDARD
BEGIN:DAYLIGHT
TZOFFSETFROM:-0500
TZOFFSETTO:-0400
TZNAME:EDT
DTSTART:20240310T070000
END:DAYLIGHT
BEGIN:STANDARD
TZOFFSETFROM:-0400
TZOFFSETTO:-0500
TZNAME:EST
DTSTART:20241103T060000
END:STANDARD
BEGIN:DAYLIGHT
TZOFFSETFROM:-0500
TZOFFSETTO:-0400
TZNAME:EDT
DTSTART:20250309T070000
END:DAYLIGHT
BEGIN:STANDARD
TZOFFSETFROM:-0400
TZOFFSETTO:-0500
TZNAME:EST
DTSTART:20251102T060000
END:STANDARD
END:VTIMEZONE
BEGIN:VEVENT
DTSTART;TZID=America/New_York:20240217T110000
DTEND;TZID=America/New_York:20240217T130000
DTSTAMP:20260420T043856
CREATED:20240129T224045Z
LAST-MODIFIED:20240215T160202Z
UID:10752-1708167600-1708174800@newfieldslibrary.org
SUMMARY:Tea Blending Workshop | Sat. Feb. 17 @11am
DESCRIPTION:Join us at the Library on Thursday\, April 16 from 6-8pm for an interactive workshop with expert trainer Neil Kutzen.  Learn the best method for remembering any of your favorite writings\, from quotes and poems to scripture\, songs\, and excerpts of books. Used as far back as Ancient Greece\, Kutzen's method relies on the principle … Continue reading How to Memorize Anything Workshop
URL:https://newfieldslibrary.org/event/tea-blending-workshop-sat-feb-17-11am-2/
LOCATION:Paul Memorial Library\, 76 Main Street\, Newfields
ATTACH;FMTTYPE=image/png:https://newfieldslibrary.org/wp-content/uploads/2024/01/Tea-blending-5x4-1.png
END:VEVENT
BEGIN:VEVENT
DTSTART;TZID=America/New_York:20240216T080000
DTEND;TZID=America/New_York:20240216T170000
DTSTAMP:20260420T043856
CREATED:20240216T171223Z
LAST-MODIFIED:20240216T171223Z
UID:10946-1708070400-1708102800@newfieldslibrary.org
SUMMARY:Closed Friday 12-1:30 for Staff In-Service
DESCRIPTION:Join us at the Library on Thursday\, April 16 from 6-8pm for an interactive workshop with expert trainer Neil Kutzen.  Learn the best method for remembering any of your favorite writings\, from quotes and poems to scripture\, songs\, and excerpts of books. Used as far back as Ancient Greece\, Kutzen's method relies on the principle … Continue reading How to Memorize Anything Workshop
URL:https://newfieldslibrary.org/event/closed-friday-12-130-for-staff-in-service/
ATTACH;FMTTYPE=image/png:https://newfieldslibrary.org/wp-content/uploads/2024/02/Closed-for-Inservice-1.png
END:VEVENT
BEGIN:VEVENT
DTSTART;VALUE=DATE:20240213
DTEND;VALUE=DATE:20240214
DTSTAMP:20260420T043856
CREATED:20240213T035213Z
LAST-MODIFIED:20240213T035213Z
UID:10894-1707782400-1707868799@newfieldslibrary.org
SUMMARY:Library CLOSED 2/13
DESCRIPTION:Join us at the Library on Thursday\, April 16 from 6-8pm for an interactive workshop with expert trainer Neil Kutzen.  Learn the best method for remembering any of your favorite writings\, from quotes and poems to scripture\, songs\, and excerpts of books. Used as far back as Ancient Greece\, Kutzen's method relies on the principle … Continue reading How to Memorize Anything Workshop
URL:https://newfieldslibrary.org/event/library-closed-2-13-2/
ATTACH;FMTTYPE=image/png:https://newfieldslibrary.org/wp-content/uploads/2024/02/Minimal-fun-closed-due-to-snow-announcement-instagram-post-500-x-400-px.png
END:VEVENT
BEGIN:VEVENT
DTSTART;TZID=America/New_York:20240204T160000
DTEND;TZID=America/New_York:20240204T180000
DTSTAMP:20260420T043856
CREATED:20240129T230800Z
LAST-MODIFIED:20240129T230800Z
UID:10756-1707062400-1707069600@newfieldslibrary.org
SUMMARY:Friends Town Hall Trivia
DESCRIPTION:Join us at the Library on Thursday\, April 16 from 6-8pm for an interactive workshop with expert trainer Neil Kutzen.  Learn the best method for remembering any of your favorite writings\, from quotes and poems to scripture\, songs\, and excerpts of books. Used as far back as Ancient Greece\, Kutzen's method relies on the principle … Continue reading How to Memorize Anything Workshop
URL:https://newfieldslibrary.org/event/friends-town-hall-trivia/
ATTACH;FMTTYPE=image/png:https://newfieldslibrary.org/wp-content/uploads/2024/01/TOWN-HALL-1.png
END:VEVENT
BEGIN:VEVENT
DTSTART;TZID=America/New_York:20240124T100000
DTEND;TZID=America/New_York:20240124T180000
DTSTAMP:20260420T043856
CREATED:20240118T231213Z
LAST-MODIFIED:20240118T231213Z
UID:10683-1706090400-1706119200@newfieldslibrary.org
SUMMARY:Library will CLOSE EARLY at 6PM
DESCRIPTION:Join us at the Library on Thursday\, April 16 from 6-8pm for an interactive workshop with expert trainer Neil Kutzen.  Learn the best method for remembering any of your favorite writings\, from quotes and poems to scripture\, songs\, and excerpts of books. Used as far back as Ancient Greece\, Kutzen's method relies on the principle … Continue reading How to Memorize Anything Workshop
URL:https://newfieldslibrary.org/event/library-will-close-early-at-6pm/
ATTACH;FMTTYPE=image/png:https://newfieldslibrary.org/wp-content/uploads/2024/01/Library-Closed-Dates-66-610-4.png
END:VEVENT
BEGIN:VEVENT
DTSTART;TZID=America/New_York:20240120T103000
DTEND;TZID=America/New_York:20240120T233000
DTSTAMP:20260420T043856
CREATED:20240103T192704Z
LAST-MODIFIED:20240103T192704Z
UID:10602-1705746600-1705793400@newfieldslibrary.org
SUMMARY:Fantasy & Sci-Fi Book Club Meeting
DESCRIPTION:Join us at the Library on Thursday\, April 16 from 6-8pm for an interactive workshop with expert trainer Neil Kutzen.  Learn the best method for remembering any of your favorite writings\, from quotes and poems to scripture\, songs\, and excerpts of books. Used as far back as Ancient Greece\, Kutzen's method relies on the principle … Continue reading How to Memorize Anything Workshop
URL:https://newfieldslibrary.org/event/fantasy-sci-fi-book-club-meeting/
ATTACH;FMTTYPE=image/png:https://newfieldslibrary.org/wp-content/uploads/2023/11/FantasySci-Fi-Book-Club-Coming-Soon-4.png
END:VEVENT
BEGIN:VEVENT
DTSTART;VALUE=DATE:20240115
DTEND;VALUE=DATE:20240116
DTSTAMP:20260420T043856
CREATED:20240115T063000Z
LAST-MODIFIED:20240115T063000Z
UID:10667-1705276800-1705363199@newfieldslibrary.org
SUMMARY:Library CLOSED for MLK Jr. Day
DESCRIPTION:Join us at the Library on Thursday\, April 16 from 6-8pm for an interactive workshop with expert trainer Neil Kutzen.  Learn the best method for remembering any of your favorite writings\, from quotes and poems to scripture\, songs\, and excerpts of books. Used as far back as Ancient Greece\, Kutzen's method relies on the principle … Continue reading How to Memorize Anything Workshop
URL:https://newfieldslibrary.org/event/library-closed-for-mlk-jr-day/
ATTACH;FMTTYPE=image/png:https://newfieldslibrary.org/wp-content/uploads/2024/01/Black-and-Cream-Black-Lives-Matter-Instagram-Post.png
END:VEVENT
BEGIN:VEVENT
DTSTART;TZID=America/New_York:20240103T101500
DTEND;TZID=America/New_York:20240103T111500
DTSTAMP:20260420T043856
CREATED:20240103T193126Z
LAST-MODIFIED:20240103T193152Z
UID:10605-1704276900-1704280500@newfieldslibrary.org
SUMMARY:Good Grief Book Club
DESCRIPTION:Join us at the Library on Thursday\, April 16 from 6-8pm for an interactive workshop with expert trainer Neil Kutzen.  Learn the best method for remembering any of your favorite writings\, from quotes and poems to scripture\, songs\, and excerpts of books. Used as far back as Ancient Greece\, Kutzen's method relies on the principle … Continue reading How to Memorize Anything Workshop
URL:https://newfieldslibrary.org/event/good-grief-book-club/
LOCATION:Paul Memorial Library\, 76 Main Street\, Newfields
ATTACH;FMTTYPE=image/png:https://newfieldslibrary.org/wp-content/uploads/2023/11/Grief-awareness-book-club-2.png
ORGANIZER;CN="Paul Memorial Library":MAILTO:staff@newfieldslibrary.org
END:VEVENT
BEGIN:VEVENT
DTSTART;VALUE=DATE:20231225
DTEND;VALUE=DATE:20240102
DTSTAMP:20260420T043856
CREATED:20231218T175102Z
LAST-MODIFIED:20231218T175102Z
UID:10566-1703462400-1704153599@newfieldslibrary.org
SUMMARY:Holiday Hours
DESCRIPTION:Join us at the Library on Thursday\, April 16 from 6-8pm for an interactive workshop with expert trainer Neil Kutzen.  Learn the best method for remembering any of your favorite writings\, from quotes and poems to scripture\, songs\, and excerpts of books. Used as far back as Ancient Greece\, Kutzen's method relies on the principle … Continue reading How to Memorize Anything Workshop
URL:https://newfieldslibrary.org/event/holiday-hours/
ATTACH;FMTTYPE=image/png:https://newfieldslibrary.org/wp-content/uploads/2023/12/Happy-holidays.png
END:VEVENT
BEGIN:VEVENT
DTSTART;TZID=America/New_York:20231216T110000
DTEND;TZID=America/New_York:20231216T123000
DTSTAMP:20260420T043856
CREATED:20231116T212937Z
LAST-MODIFIED:20231116T213008Z
UID:10365-1702724400-1702729800@newfieldslibrary.org
SUMMARY:Mini “Gingerbread” Houses | Family Workshop 12/16
DESCRIPTION:Join us at the Library on Thursday\, April 16 from 6-8pm for an interactive workshop with expert trainer Neil Kutzen.  Learn the best method for remembering any of your favorite writings\, from quotes and poems to scripture\, songs\, and excerpts of books. Used as far back as Ancient Greece\, Kutzen's method relies on the principle … Continue reading How to Memorize Anything Workshop
URL:https://newfieldslibrary.org/event/mini-gingerbread-houses-family-workshop-12-16/
LOCATION:Paul Memorial Library\, 76 Main Street\, Newfields
ATTACH;FMTTYPE=image/png:https://newfieldslibrary.org/wp-content/uploads/2023/11/Mini-gingerbread-houses-All-ages-workshop-1.png
END:VEVENT
BEGIN:VEVENT
DTSTART;TZID=America/New_York:20231213T180000
DTEND;TZID=America/New_York:20231213T183000
DTSTAMP:20260420T043856
CREATED:20231122T204124Z
LAST-MODIFIED:20231122T204124Z
UID:10454-1702490400-1702492200@newfieldslibrary.org
SUMMARY:Special Evening Story Time
DESCRIPTION:Join us at the Library on Thursday\, April 16 from 6-8pm for an interactive workshop with expert trainer Neil Kutzen.  Learn the best method for remembering any of your favorite writings\, from quotes and poems to scripture\, songs\, and excerpts of books. Used as far back as Ancient Greece\, Kutzen's method relies on the principle … Continue reading How to Memorize Anything Workshop
URL:https://newfieldslibrary.org/event/special-evening-story-time/
LOCATION:Paul Memorial Library\, 76 Main Street\, Newfields
ATTACH;FMTTYPE=image/png:https://newfieldslibrary.org/wp-content/uploads/2023/11/Evening-Story-Time-Poster-2.png
END:VEVENT
BEGIN:VEVENT
DTSTART;TZID=America/New_York:20231202T110000
DTEND;TZID=America/New_York:20231202T113000
DTSTAMP:20260420T043856
CREATED:20231116T201821Z
LAST-MODIFIED:20231116T201821Z
UID:10361-1701514800-1701516600@newfieldslibrary.org
SUMMARY:Newfields Puzzle Swap | Saturday\, Dec. 2
DESCRIPTION:Join us at the Library on Thursday\, April 16 from 6-8pm for an interactive workshop with expert trainer Neil Kutzen.  Learn the best method for remembering any of your favorite writings\, from quotes and poems to scripture\, songs\, and excerpts of books. Used as far back as Ancient Greece\, Kutzen's method relies on the principle … Continue reading How to Memorize Anything Workshop
URL:https://newfieldslibrary.org/event/newfields-puzzle-swap-saturday-dec-2-2/
LOCATION:Paul Memorial Library\, 76 Main Street\, Newfields
ATTACH;FMTTYPE=image/png:https://newfieldslibrary.org/wp-content/uploads/2023/11/Puzzle-Swap-5x4-4-1.png
END:VEVENT
BEGIN:VEVENT
DTSTART;VALUE=DATE:20231202
DTEND;VALUE=DATE:20231218
DTSTAMP:20260420T043856
CREATED:20231127T192311Z
LAST-MODIFIED:20231214T160124Z
UID:10499-1701475200-1702857599@newfieldslibrary.org
SUMMARY:FREE Passes to Strawbery Banke Candlelight Strolls
DESCRIPTION:Join us at the Library on Thursday\, April 16 from 6-8pm for an interactive workshop with expert trainer Neil Kutzen.  Learn the best method for remembering any of your favorite writings\, from quotes and poems to scripture\, songs\, and excerpts of books. Used as far back as Ancient Greece\, Kutzen's method relies on the principle … Continue reading How to Memorize Anything Workshop
URL:https://newfieldslibrary.org/event/free-passes-to-strawbery-banke-candlelight-strolls/
ATTACH;FMTTYPE=image/png:https://newfieldslibrary.org/wp-content/uploads/2023/11/Candlelight-Stroll-passes-1.png
END:VEVENT
BEGIN:VEVENT
DTSTART;VALUE=DATE:20231127
DTEND;VALUE=DATE:20240103
DTSTAMP:20260420T043856
CREATED:20231125T175518Z
LAST-MODIFIED:20231125T175555Z
UID:10472-1701043200-1704239999@newfieldslibrary.org
SUMMARY:Newfields Holiday Read-a-Thon
DESCRIPTION:Join us at the Library on Thursday\, April 16 from 6-8pm for an interactive workshop with expert trainer Neil Kutzen.  Learn the best method for remembering any of your favorite writings\, from quotes and poems to scripture\, songs\, and excerpts of books. Used as far back as Ancient Greece\, Kutzen's method relies on the principle … Continue reading How to Memorize Anything Workshop
URL:https://newfieldslibrary.org/event/newfields-holiday-read-a-thon-nov-27-jan-2-2/
ATTACH;FMTTYPE=image/png:https://newfieldslibrary.org/wp-content/uploads/2023/11/Holiday-Read-a-Thon-3.png
END:VEVENT
BEGIN:VEVENT
DTSTART;VALUE=DATE:20231122
DTEND;VALUE=DATE:20231126
DTSTAMP:20260420T043856
CREATED:20231120T200158Z
LAST-MODIFIED:20231120T200158Z
UID:10440-1700611200-1700956799@newfieldslibrary.org
SUMMARY:Thanksgiving Schedule
DESCRIPTION:Join us at the Library on Thursday\, April 16 from 6-8pm for an interactive workshop with expert trainer Neil Kutzen.  Learn the best method for remembering any of your favorite writings\, from quotes and poems to scripture\, songs\, and excerpts of books. Used as far back as Ancient Greece\, Kutzen's method relies on the principle … Continue reading How to Memorize Anything Workshop
URL:https://newfieldslibrary.org/event/thanksgiving-schedule-2/
ATTACH;FMTTYPE=image/png:https://newfieldslibrary.org/wp-content/uploads/2023/11/THANKSGIVING-SCHEDULE.png
END:VEVENT
BEGIN:VEVENT
DTSTART;VALUE=DATE:20231120
DTEND;VALUE=DATE:20231231
DTSTAMP:20260420T043856
CREATED:20231026T214259Z
LAST-MODIFIED:20231026T221208Z
UID:10257-1700438400-1703980799@newfieldslibrary.org
SUMMARY:Recycle Your Holiday Lights at the Library
DESCRIPTION:Join us at the Library on Thursday\, April 16 from 6-8pm for an interactive workshop with expert trainer Neil Kutzen.  Learn the best method for remembering any of your favorite writings\, from quotes and poems to scripture\, songs\, and excerpts of books. Used as far back as Ancient Greece\, Kutzen's method relies on the principle … Continue reading How to Memorize Anything Workshop
URL:https://newfieldslibrary.org/event/recycle-your-holidays-lights-at-the-library/
LOCATION:Paul Memorial Library\, 76 Main Street\, Newfields
ATTACH;FMTTYPE=image/png:https://newfieldslibrary.org/wp-content/uploads/2023/10/Recycle-Holiday-Lights-5x4-5.png
END:VEVENT
BEGIN:VEVENT
DTSTART;TZID=America/New_York:20231118T103000
DTEND;TZID=America/New_York:20231118T120000
DTSTAMP:20260420T043856
CREATED:20231026T212245Z
LAST-MODIFIED:20231026T212245Z
UID:10238-1700303400-1700308800@newfieldslibrary.org
SUMMARY:Art Cafe | DIY Book Page Medallions
DESCRIPTION:Join us at the Library on Thursday\, April 16 from 6-8pm for an interactive workshop with expert trainer Neil Kutzen.  Learn the best method for remembering any of your favorite writings\, from quotes and poems to scripture\, songs\, and excerpts of books. Used as far back as Ancient Greece\, Kutzen's method relies on the principle … Continue reading How to Memorize Anything Workshop
URL:https://newfieldslibrary.org/event/art-cafe-diy-book-page-medallions-2/
LOCATION:Paul Memorial Library\, 76 Main Street\, Newfields
ATTACH;FMTTYPE=image/png:https://newfieldslibrary.org/wp-content/uploads/2023/10/Paper-Medallion-Ornaments.png
END:VEVENT
BEGIN:VEVENT
DTSTART;TZID=America/New_York:20231114T130000
DTEND;TZID=America/New_York:20231114T150000
DTSTAMP:20260420T043856
CREATED:20231026T212921Z
LAST-MODIFIED:20231026T212921Z
UID:10247-1699966800-1699974000@newfieldslibrary.org
SUMMARY:Crafternoon | Paint-Along Harvest Moon
DESCRIPTION:Join us at the Library on Thursday\, April 16 from 6-8pm for an interactive workshop with expert trainer Neil Kutzen.  Learn the best method for remembering any of your favorite writings\, from quotes and poems to scripture\, songs\, and excerpts of books. Used as far back as Ancient Greece\, Kutzen's method relies on the principle … Continue reading How to Memorize Anything Workshop
URL:https://newfieldslibrary.org/event/crafternoon-paint-along-harvest-moon/
ATTACH;FMTTYPE=image/png:https://newfieldslibrary.org/wp-content/uploads/2023/10/Art-Cafe-Series.png
END:VEVENT
BEGIN:VEVENT
DTSTART;TZID=America/New_York:20231111T183000
DTEND;TZID=America/New_York:20231111T213000
DTSTAMP:20260420T043856
CREATED:20231026T195248Z
LAST-MODIFIED:20231026T195310Z
UID:10215-1699727400-1699738200@newfieldslibrary.org
SUMMARY:Astronomy Night
DESCRIPTION:Join us at the Library on Thursday\, April 16 from 6-8pm for an interactive workshop with expert trainer Neil Kutzen.  Learn the best method for remembering any of your favorite writings\, from quotes and poems to scripture\, songs\, and excerpts of books. Used as far back as Ancient Greece\, Kutzen's method relies on the principle … Continue reading How to Memorize Anything Workshop
URL:https://newfieldslibrary.org/event/astronomy-night-3/
LOCATION:Paul Memorial Library\, 76 Main Street\, Newfields
ATTACH;FMTTYPE=image/png:https://newfieldslibrary.org/wp-content/uploads/2023/10/Skywatch-Night-5x4-1.png
END:VEVENT
BEGIN:VEVENT
DTSTART;VALUE=DATE:20231110
DTEND;VALUE=DATE:20231111
DTSTAMP:20260420T043856
CREATED:20231110T165057Z
LAST-MODIFIED:20231110T165141Z
UID:10329-1699574400-1699660799@newfieldslibrary.org
SUMMARY:Library CLOSED for Veterans Day
DESCRIPTION:Join us at the Library on Thursday\, April 16 from 6-8pm for an interactive workshop with expert trainer Neil Kutzen.  Learn the best method for remembering any of your favorite writings\, from quotes and poems to scripture\, songs\, and excerpts of books. Used as far back as Ancient Greece\, Kutzen's method relies on the principle … Continue reading How to Memorize Anything Workshop
URL:https://newfieldslibrary.org/event/library-closed-for-veterans-day/
ATTACH;FMTTYPE=image/png:https://newfieldslibrary.org/wp-content/uploads/2023/11/Red-Bold-Veteran-Day-Greeting-Facebook-Post.png
END:VEVENT
BEGIN:VEVENT
DTSTART;TZID=America/New_York:20231108T170000
DTEND;TZID=America/New_York:20231108T180000
DTSTAMP:20260420T043856
CREATED:20231026T212535Z
LAST-MODIFIED:20231026T212535Z
UID:10241-1699462800-1699466400@newfieldslibrary.org
SUMMARY:Evening Story Hour
DESCRIPTION:Join us at the Library on Thursday\, April 16 from 6-8pm for an interactive workshop with expert trainer Neil Kutzen.  Learn the best method for remembering any of your favorite writings\, from quotes and poems to scripture\, songs\, and excerpts of books. Used as far back as Ancient Greece\, Kutzen's method relies on the principle … Continue reading How to Memorize Anything Workshop
URL:https://newfieldslibrary.org/event/evening-story-hour-2/
ATTACH;FMTTYPE=image/png:https://newfieldslibrary.org/wp-content/uploads/2023/10/Evening-Story-Hour.png
END:VEVENT
BEGIN:VEVENT
DTSTART;TZID=America/New_York:20231104T110000
DTEND;TZID=America/New_York:20231104T130000
DTSTAMP:20260420T043856
CREATED:20231016T181019Z
LAST-MODIFIED:20231016T181232Z
UID:10165-1699095600-1699102800@newfieldslibrary.org
SUMMARY:Tea Blending Workshop
DESCRIPTION:Join us at the Library on Thursday\, April 16 from 6-8pm for an interactive workshop with expert trainer Neil Kutzen.  Learn the best method for remembering any of your favorite writings\, from quotes and poems to scripture\, songs\, and excerpts of books. Used as far back as Ancient Greece\, Kutzen's method relies on the principle … Continue reading How to Memorize Anything Workshop
URL:https://newfieldslibrary.org/event/tea-blending-workshop/
LOCATION:Paul Memorial Library\, 76 Main Street\, Newfields
ATTACH;FMTTYPE=image/png:https://newfieldslibrary.org/wp-content/uploads/2023/10/Tea-blending-5x4-1.png
ORGANIZER;CN="Paul Memorial Library":MAILTO:staff@newfieldslibrary.org
END:VEVENT
BEGIN:VEVENT
DTSTART;VALUE=DATE:20231031
DTEND;VALUE=DATE:20231101
DTSTAMP:20260420T043856
CREATED:20231030T182647Z
LAST-MODIFIED:20231030T182647Z
UID:10271-1698710400-1698796799@newfieldslibrary.org
SUMMARY:Haunted Library | Library CLOSED for the day
DESCRIPTION:Join us at the Library on Thursday\, April 16 from 6-8pm for an interactive workshop with expert trainer Neil Kutzen.  Learn the best method for remembering any of your favorite writings\, from quotes and poems to scripture\, songs\, and excerpts of books. Used as far back as Ancient Greece\, Kutzen's method relies on the principle … Continue reading How to Memorize Anything Workshop
URL:https://newfieldslibrary.org/event/haunted-library-library-closed-for-the-day/
ATTACH;FMTTYPE=image/png:https://newfieldslibrary.org/wp-content/uploads/2023/10/Haunted-Library-2021-5x4-3.png
END:VEVENT
BEGIN:VEVENT
DTSTART;TZID=America/New_York:20231027T183000
DTEND;TZID=America/New_York:20231027T203000
DTSTAMP:20260420T043856
CREATED:20230925T192346Z
LAST-MODIFIED:20230925T192346Z
UID:10036-1698431400-1698438600@newfieldslibrary.org
SUMMARY:Freaky Fridays at the Drive-In | Hocus Pocus 2
DESCRIPTION:Join us at the Library on Thursday\, April 16 from 6-8pm for an interactive workshop with expert trainer Neil Kutzen.  Learn the best method for remembering any of your favorite writings\, from quotes and poems to scripture\, songs\, and excerpts of books. Used as far back as Ancient Greece\, Kutzen's method relies on the principle … Continue reading How to Memorize Anything Workshop
URL:https://newfieldslibrary.org/event/freaky-fridays-at-the-drive-in-hocus-pocus-2/
LOCATION:Paul Memorial Library\, 76 Main Street\, Newfields
ATTACH;FMTTYPE=image/png:https://newfieldslibrary.org/wp-content/uploads/2023/09/Freaky-Fridays-at-the-Drive-In-2.png
ORGANIZER;CN="Paul Memorial Library":MAILTO:staff@newfieldslibrary.org
END:VEVENT
BEGIN:VEVENT
DTSTART;TZID=America/New_York:20231027T103000
DTEND;TZID=America/New_York:20231027T113000
DTSTAMP:20260420T043856
CREATED:20231026T213140Z
LAST-MODIFIED:20231026T213140Z
UID:10249-1698402600-1698406200@newfieldslibrary.org
SUMMARY:Pre-School Boo! Parade
DESCRIPTION:Join us at the Library on Thursday\, April 16 from 6-8pm for an interactive workshop with expert trainer Neil Kutzen.  Learn the best method for remembering any of your favorite writings\, from quotes and poems to scripture\, songs\, and excerpts of books. Used as far back as Ancient Greece\, Kutzen's method relies on the principle … Continue reading How to Memorize Anything Workshop
URL:https://newfieldslibrary.org/event/pre-school-boo-parade/
LOCATION:Paul Memorial Library\, 76 Main Street\, Newfields
ATTACH;FMTTYPE=image/png:https://newfieldslibrary.org/wp-content/uploads/2023/10/Preschool-Boo-Parade-2.png
END:VEVENT
BEGIN:VEVENT
DTSTART;TZID=America/New_York:20231021T110000
DTEND;TZID=America/New_York:20231021T120000
DTSTAMP:20260420T043856
CREATED:20231011T151640Z
LAST-MODIFIED:20231021T020456Z
UID:10137-1697886000-1697889600@newfieldslibrary.org
SUMMARY:EVENT CANCELED: Zombie Laser Tag
DESCRIPTION:Join us at the Library on Thursday\, April 16 from 6-8pm for an interactive workshop with expert trainer Neil Kutzen.  Learn the best method for remembering any of your favorite writings\, from quotes and poems to scripture\, songs\, and excerpts of books. Used as far back as Ancient Greece\, Kutzen's method relies on the principle … Continue reading How to Memorize Anything Workshop
URL:https://newfieldslibrary.org/event/zombie-laser-tag/
LOCATION:Paul Memorial Library\, 76 Main Street\, Newfields
ATTACH;FMTTYPE=image/png:https://newfieldslibrary.org/wp-content/uploads/2023/10/Zombie-Laser-1.png
ORGANIZER;CN="Paul Memorial Library":MAILTO:staff@newfieldslibrary.org
END:VEVENT
BEGIN:VEVENT
DTSTART;TZID=America/New_York:20231020T183000
DTEND;TZID=America/New_York:20231020T203000
DTSTAMP:20260420T043856
CREATED:20230925T192212Z
LAST-MODIFIED:20230925T192212Z
UID:10033-1697826600-1697833800@newfieldslibrary.org
SUMMARY:Freaky Fridays at the Drive-In | The Goonies
DESCRIPTION:Join us at the Library on Thursday\, April 16 from 6-8pm for an interactive workshop with expert trainer Neil Kutzen.  Learn the best method for remembering any of your favorite writings\, from quotes and poems to scripture\, songs\, and excerpts of books. Used as far back as Ancient Greece\, Kutzen's method relies on the principle … Continue reading How to Memorize Anything Workshop
URL:https://newfieldslibrary.org/event/freaky-fridays-at-the-drive-in-the-goonies/
LOCATION:Paul Memorial Library\, 76 Main Street\, Newfields
ATTACH;FMTTYPE=image/png:https://newfieldslibrary.org/wp-content/uploads/2023/09/Freaky-Fridays-at-the-Drive-In-2.png
ORGANIZER;CN="Paul Memorial Library":MAILTO:staff@newfieldslibrary.org
END:VEVENT
BEGIN:VEVENT
DTSTART;TZID=America/New_York:20231014T110000
DTEND;TZID=America/New_York:20231021T120000
DTSTAMP:20260420T043856
CREATED:20230927T145036Z
LAST-MODIFIED:20231011T145508Z
UID:10047-1697281200-1697889600@newfieldslibrary.org
SUMMARY:EVENT CANCELED: Newfields Author Visit | Amanda Bacon-Davis
DESCRIPTION:Join us at the Library on Thursday\, April 16 from 6-8pm for an interactive workshop with expert trainer Neil Kutzen.  Learn the best method for remembering any of your favorite writings\, from quotes and poems to scripture\, songs\, and excerpts of books. Used as far back as Ancient Greece\, Kutzen's method relies on the principle … Continue reading How to Memorize Anything Workshop
URL:https://newfieldslibrary.org/event/newfields-author-visit-amanda-bacon-davis/
LOCATION:Paul Memorial Library\, 76 Main Street\, Newfields
ATTACH;FMTTYPE=image/png:https://newfieldslibrary.org/wp-content/uploads/2023/09/Author-Visit-Amanda-Bacon-Davis-1.png
ORGANIZER;CN="Paul Memorial Library":MAILTO:staff@newfieldslibrary.org
END:VEVENT
BEGIN:VEVENT
DTSTART;TZID=America/New_York:20231013T183000
DTEND;TZID=America/New_York:20231013T200000
DTSTAMP:20260420T043856
CREATED:20230925T192006Z
LAST-MODIFIED:20230925T192006Z
UID:10030-1697221800-1697227200@newfieldslibrary.org
SUMMARY:Freak Fridays at the Drive-In | Friday the 13th
DESCRIPTION:Join us at the Library on Thursday\, April 16 from 6-8pm for an interactive workshop with expert trainer Neil Kutzen.  Learn the best method for remembering any of your favorite writings\, from quotes and poems to scripture\, songs\, and excerpts of books. Used as far back as Ancient Greece\, Kutzen's method relies on the principle … Continue reading How to Memorize Anything Workshop
URL:https://newfieldslibrary.org/event/freak-fridays-at-the-drive-in-friday-the-13th/
LOCATION:Paul Memorial Library\, 76 Main Street\, Newfields
ATTACH;FMTTYPE=image/png:https://newfieldslibrary.org/wp-content/uploads/2023/09/Freaky-Fridays-at-the-Drive-In-2.png
ORGANIZER;CN="Paul Memorial Library":MAILTO:staff@newfieldslibrary.org
END:VEVENT
BEGIN:VEVENT
DTSTART;TZID=America/New_York:20231007T110000
DTEND;TZID=America/New_York:20231007T120000
DTSTAMP:20260420T043856
CREATED:20230927T161005Z
LAST-MODIFIED:20230927T172706Z
UID:10055-1696676400-1696680000@newfieldslibrary.org
SUMMARY:Halloween Cookie Decorating
DESCRIPTION:Join us at the Library on Thursday\, April 16 from 6-8pm for an interactive workshop with expert trainer Neil Kutzen.  Learn the best method for remembering any of your favorite writings\, from quotes and poems to scripture\, songs\, and excerpts of books. Used as far back as Ancient Greece\, Kutzen's method relies on the principle … Continue reading How to Memorize Anything Workshop
URL:https://newfieldslibrary.org/event/halloween-cookie-decorating-2/
ATTACH;FMTTYPE=image/png:https://newfieldslibrary.org/wp-content/uploads/2023/09/Halloween-Cookie-Decorating.png
END:VEVENT
END:VCALENDAR