BEGIN:VCALENDAR
VERSION:2.0
PRODID:-//Paul Memorial Library - ECPv6.15.20//NONSGML v1.0//EN
CALSCALE:GREGORIAN
METHOD:PUBLISH
X-ORIGINAL-URL:https://newfieldslibrary.org
X-WR-CALDESC:Events for Paul Memorial Library
REFRESH-INTERVAL;VALUE=DURATION:PT1H
X-Robots-Tag:noindex
X-PUBLISHED-TTL:PT1H
BEGIN:VTIMEZONE
TZID:America/New_York
BEGIN:DAYLIGHT
TZOFFSETFROM:-0500
TZOFFSETTO:-0400
TZNAME:EDT
DTSTART:20250309T070000
END:DAYLIGHT
BEGIN:STANDARD
TZOFFSETFROM:-0400
TZOFFSETTO:-0500
TZNAME:EST
DTSTART:20251102T060000
END:STANDARD
BEGIN:DAYLIGHT
TZOFFSETFROM:-0500
TZOFFSETTO:-0400
TZNAME:EDT
DTSTART:20260308T070000
END:DAYLIGHT
BEGIN:STANDARD
TZOFFSETFROM:-0400
TZOFFSETTO:-0500
TZNAME:EST
DTSTART:20261101T060000
END:STANDARD
BEGIN:DAYLIGHT
TZOFFSETFROM:-0500
TZOFFSETTO:-0400
TZNAME:EDT
DTSTART:20270314T070000
END:DAYLIGHT
BEGIN:STANDARD
TZOFFSETFROM:-0400
TZOFFSETTO:-0500
TZNAME:EST
DTSTART:20271107T060000
END:STANDARD
END:VTIMEZONE
BEGIN:VEVENT
DTSTART;TZID=America/New_York:20260331T130000
DTEND;TZID=America/New_York:20260331T150000
DTSTAMP:20260424T053153
CREATED:20260304T050526Z
LAST-MODIFIED:20260304T050526Z
UID:10000297-1774962000-1774969200@newfieldslibrary.org
SUMMARY:Let's Play Mah Jongg! Weekly Tuesdays
DESCRIPTION:Join us at the Library on Tuesdays in the cozy meeting room from 1-3pm to play American Mah Jongg! Whether you’re a seasoned player or just curious to learn\, you’re … Continue reading Let’s Play Mah Jongg! Weekly Tuesdays
URL:https://newfieldslibrary.org/event/lets-play-mah-jongg-weekly-tuesdays-4/
LOCATION:Paul Memorial Library\, 76 Main Street\, Newfields
CATEGORIES:Mah Jongg
ATTACH;FMTTYPE=image/png:https://newfieldslibrary.org/wp-content/uploads/2025/09/Mah-Jongg-Class-1.png
ORGANIZER;CN="Paul Memorial Library":MAILTO:staff@newfieldslibrary.org
END:VEVENT
BEGIN:VEVENT
DTSTART;VALUE=DATE:20260401
DTEND;VALUE=DATE:20260501
DTSTAMP:20260424T053153
CREATED:20260326T172517Z
LAST-MODIFIED:20260326T200412Z
UID:10000302-1775001600-1777593599@newfieldslibrary.org
SUMMARY:April Online Author Talks
DESCRIPTION:Join us at the Library on Tuesdays in the cozy meeting room from 1-3pm to play American Mah Jongg! Whether you’re a seasoned player or just curious to learn\, you’re … Continue reading Let’s Play Mah Jongg! Weekly Tuesdays
URL:https://newfieldslibrary.org/event/april-online-author-talks/
LOCATION:Online
CATEGORIES:Author Talk
ATTACH;FMTTYPE=image/png:https://newfieldslibrary.org/wp-content/uploads/2026/03/April-All-Series-Delete-the-ones-you-dont-need-1.png
ORGANIZER;CN="Paul Memorial Library":MAILTO:staff@newfieldslibrary.org
END:VEVENT
BEGIN:VEVENT
DTSTART;TZID=America/New_York:20260401T103000
DTEND;TZID=America/New_York:20260401T111500
DTSTAMP:20260424T053153
CREATED:20260328T151037Z
LAST-MODIFIED:20260331T010302Z
UID:10000303-1775039400-1775042100@newfieldslibrary.org
SUMMARY:Story Time with Mr. Andy | Wednesdays
DESCRIPTION:Join us at the Library on Tuesdays in the cozy meeting room from 1-3pm to play American Mah Jongg! Whether you’re a seasoned player or just curious to learn\, you’re … Continue reading Let’s Play Mah Jongg! Weekly Tuesdays
URL:https://newfieldslibrary.org/event/story-time-with-mr-andy-wednesdays-6/
LOCATION:Paul Memorial Library\, 76 Main Street\, Newfields
CATEGORIES:Story Times
ATTACH;FMTTYPE=image/png:https://newfieldslibrary.org/wp-content/uploads/2026/01/Preschool-Story-Times-8.png
ORGANIZER;CN="Paul Memorial Library":MAILTO:newpl@comcast.net
END:VEVENT
BEGIN:VEVENT
DTSTART;TZID=America/New_York:20260401T173000
DTEND;TZID=America/New_York:20260401T193000
DTSTAMP:20260424T053153
CREATED:20260328T152218Z
LAST-MODIFIED:20260328T152218Z
UID:10000308-1775064600-1775071800@newfieldslibrary.org
SUMMARY:Dungeons and Dragons - Grades 5-8 (Registration Required)
DESCRIPTION:Join us at the Library on Tuesdays in the cozy meeting room from 1-3pm to play American Mah Jongg! Whether you’re a seasoned player or just curious to learn\, you’re … Continue reading Let’s Play Mah Jongg! Weekly Tuesdays
URL:https://newfieldslibrary.org/event/dungeons-and-dragons-grades-5-8-registration-required-5/
CATEGORIES:Dungeons and Dragons
ATTACH;FMTTYPE=image/png:https://newfieldslibrary.org/wp-content/uploads/2026/02/Dungeons-Dragons-Flier-500-x-400-px.png
END:VEVENT
BEGIN:VEVENT
DTSTART;TZID=America/New_York:20260407T130000
DTEND;TZID=America/New_York:20260407T150000
DTSTAMP:20260424T053153
CREATED:20260304T050618Z
LAST-MODIFIED:20260423T155740Z
UID:10000298-1775566800-1775574000@newfieldslibrary.org
SUMMARY:Let's Play Mah Jongg! Weekly Tuesdays
DESCRIPTION:Join us at the Library on Tuesdays in the cozy meeting room from 1-3pm to play American Mah Jongg! Whether you’re a seasoned player or just curious to learn\, you’re … Continue reading Let’s Play Mah Jongg! Weekly Tuesdays
URL:https://newfieldslibrary.org/event/lets-play-mah-jongg-weekly-tuesdays-5/2026-04-07/
LOCATION:Paul Memorial Library\, 76 Main Street\, Newfields
CATEGORIES:Mah Jongg
ATTACH;FMTTYPE=image/png:https://newfieldslibrary.org/wp-content/uploads/2025/09/Mah-Jongg-Class-1.png
ORGANIZER;CN="Paul Memorial Library":MAILTO:staff@newfieldslibrary.org
END:VEVENT
BEGIN:VEVENT
DTSTART;TZID=America/New_York:20260408T103000
DTEND;TZID=America/New_York:20260408T111500
DTSTAMP:20260424T053153
CREATED:20260328T151253Z
LAST-MODIFIED:20260331T010230Z
UID:10000304-1775644200-1775646900@newfieldslibrary.org
SUMMARY:Story Time with Mr. Andy | Wednesdays
DESCRIPTION:Join us at the Library on Tuesdays in the cozy meeting room from 1-3pm to play American Mah Jongg! Whether you’re a seasoned player or just curious to learn\, you’re … Continue reading Let’s Play Mah Jongg! Weekly Tuesdays
URL:https://newfieldslibrary.org/event/story-time-with-mr-andy-wednesdays-7/
CATEGORIES:Story Times
ATTACH;FMTTYPE=image/png:https://newfieldslibrary.org/wp-content/uploads/2026/01/Preschool-Story-Times-8.png
END:VEVENT
BEGIN:VEVENT
DTSTART;TZID=America/New_York:20260409T183000
DTEND;TZID=America/New_York:20260409T193000
DTSTAMP:20260424T053153
CREATED:20260330T015537Z
LAST-MODIFIED:20260330T015537Z
UID:10000309-1775759400-1775763000@newfieldslibrary.org
SUMMARY:US250 | Book Discussion: The Small & The Mighty
DESCRIPTION:Join us at the Library on Tuesdays in the cozy meeting room from 1-3pm to play American Mah Jongg! Whether you’re a seasoned player or just curious to learn\, you’re … Continue reading Let’s Play Mah Jongg! Weekly Tuesdays
URL:https://newfieldslibrary.org/event/us250-book-discussion-the-small-the-mighty-2/
LOCATION:Paul Memorial Library\, 76 Main Street\, Newfields
CATEGORIES:US250
ATTACH;FMTTYPE=image/png:https://newfieldslibrary.org/wp-content/uploads/2026/03/Book-Discussion-Small-Mighty-US250-@-The-Library.png
ORGANIZER;CN="Paul Memorial Library":MAILTO:staff@newfieldslibrary.org
END:VEVENT
BEGIN:VEVENT
DTSTART;TZID=America/New_York:20260411T100000
DTEND;TZID=America/New_York:20260411T110000
DTSTAMP:20260424T053153
CREATED:20260330T164513Z
LAST-MODIFIED:20260404T160711Z
UID:10000310-1775901600-1775905200@newfieldslibrary.org
SUMMARY:Kids Yoga Class | Ages 2-8
DESCRIPTION:Join us at the Library on Tuesdays in the cozy meeting room from 1-3pm to play American Mah Jongg! Whether you’re a seasoned player or just curious to learn\, you’re … Continue reading Let’s Play Mah Jongg! Weekly Tuesdays
URL:https://newfieldslibrary.org/event/kids-yoga-class-ages-2-6/
LOCATION:Paul Memorial Library\, 76 Main Street\, Newfields
ATTACH;FMTTYPE=image/png:https://newfieldslibrary.org/wp-content/uploads/2026/03/Kids-Yoga-2.png
ORGANIZER;CN="Paul Memorial Library":MAILTO:staff@newfieldslibrary.org
END:VEVENT
BEGIN:VEVENT
DTSTART;TZID=America/New_York:20260414T130000
DTEND;TZID=America/New_York:20260414T150000
DTSTAMP:20260424T053153
CREATED:20260304T050618Z
LAST-MODIFIED:20260423T155740Z
UID:10000312-1776171600-1776178800@newfieldslibrary.org
SUMMARY:Let's Play Mah Jongg! Weekly Tuesdays
DESCRIPTION:Join us at the Library on Tuesdays in the cozy meeting room from 1-3pm to play American Mah Jongg! Whether you’re a seasoned player or just curious to learn\, you’re … Continue reading Let’s Play Mah Jongg! Weekly Tuesdays
URL:https://newfieldslibrary.org/event/lets-play-mah-jongg-weekly-tuesdays-5/2026-04-14/
LOCATION:Paul Memorial Library\, 76 Main Street\, Newfields
CATEGORIES:Mah Jongg
ATTACH;FMTTYPE=image/png:https://newfieldslibrary.org/wp-content/uploads/2025/09/Mah-Jongg-Class-1.png
ORGANIZER;CN="Paul Memorial Library":MAILTO:staff@newfieldslibrary.org
END:VEVENT
BEGIN:VEVENT
DTSTART;TZID=America/New_York:20260415T103000
DTEND;TZID=America/New_York:20260415T111500
DTSTAMP:20260424T053153
CREATED:20260328T151358Z
LAST-MODIFIED:20260331T010204Z
UID:10000305-1776249000-1776251700@newfieldslibrary.org
SUMMARY:Story Time with Mr. Andy | Wednesdays
DESCRIPTION:Join us at the Library on Tuesdays in the cozy meeting room from 1-3pm to play American Mah Jongg! Whether you’re a seasoned player or just curious to learn\, you’re … Continue reading Let’s Play Mah Jongg! Weekly Tuesdays
URL:https://newfieldslibrary.org/event/story-time-with-mr-andy-wednesdays-8/
CATEGORIES:Story Times
ATTACH;FMTTYPE=image/png:https://newfieldslibrary.org/wp-content/uploads/2026/01/Preschool-Story-Times-8.png
END:VEVENT
BEGIN:VEVENT
DTSTART;TZID=America/New_York:20260416T180000
DTEND;TZID=America/New_York:20260416T200000
DTSTAMP:20260424T053153
CREATED:20260331T004504Z
LAST-MODIFIED:20260402T190320Z
UID:10000311-1776362400-1776369600@newfieldslibrary.org
SUMMARY:How to Memorize Anything Workshop
DESCRIPTION:Join us at the Library on Tuesdays in the cozy meeting room from 1-3pm to play American Mah Jongg! Whether you’re a seasoned player or just curious to learn\, you’re … Continue reading Let’s Play Mah Jongg! Weekly Tuesdays
URL:https://newfieldslibrary.org/event/memorize-anything-workshop-2/
LOCATION:Paul Memorial Library\, 76 Main Street\, Newfields
ATTACH;FMTTYPE=image/png:https://newfieldslibrary.org/wp-content/uploads/2026/03/Memorize-Anything-Workshop.png
ORGANIZER;CN="Paul Memorial Library":MAILTO:staff@newfieldslibrary.org
END:VEVENT
BEGIN:VEVENT
DTSTART;TZID=America/New_York:20260421T130000
DTEND;TZID=America/New_York:20260421T150000
DTSTAMP:20260424T053153
CREATED:20260304T050618Z
LAST-MODIFIED:20260423T155740Z
UID:10000313-1776776400-1776783600@newfieldslibrary.org
SUMMARY:Let's Play Mah Jongg! Weekly Tuesdays
DESCRIPTION:Join us at the Library on Tuesdays in the cozy meeting room from 1-3pm to play American Mah Jongg! Whether you’re a seasoned player or just curious to learn\, you’re … Continue reading Let’s Play Mah Jongg! Weekly Tuesdays
URL:https://newfieldslibrary.org/event/lets-play-mah-jongg-weekly-tuesdays-5/2026-04-21/
LOCATION:Paul Memorial Library\, 76 Main Street\, Newfields
CATEGORIES:Mah Jongg
ATTACH;FMTTYPE=image/png:https://newfieldslibrary.org/wp-content/uploads/2025/09/Mah-Jongg-Class-1.png
ORGANIZER;CN="Paul Memorial Library":MAILTO:staff@newfieldslibrary.org
END:VEVENT
BEGIN:VEVENT
DTSTART;TZID=America/New_York:20260422T103000
DTEND;TZID=America/New_York:20260422T111500
DTSTAMP:20260424T053153
CREATED:20260328T151501Z
LAST-MODIFIED:20260331T005853Z
UID:10000306-1776853800-1776856500@newfieldslibrary.org
SUMMARY:Story Time with Mr. Andy | Wednesdays
DESCRIPTION:Join us at the Library on Tuesdays in the cozy meeting room from 1-3pm to play American Mah Jongg! Whether you’re a seasoned player or just curious to learn\, you’re … Continue reading Let’s Play Mah Jongg! Weekly Tuesdays
URL:https://newfieldslibrary.org/event/story-time-with-mr-andy-wednesdays-9/
LOCATION:Paul Memorial Library\, 76 Main Street\, Newfields
CATEGORIES:Story Times
ATTACH;FMTTYPE=image/png:https://newfieldslibrary.org/wp-content/uploads/2026/01/Preschool-Story-Times-8.png
ORGANIZER;CN="Paul Memorial Library":MAILTO:staff@newfieldslibrary.org
END:VEVENT
BEGIN:VEVENT
DTSTART;TZID=America/New_York:20260428T130000
DTEND;TZID=America/New_York:20260428T150000
DTSTAMP:20260424T053153
CREATED:20260304T050618Z
LAST-MODIFIED:20260423T155740Z
UID:10000314-1777381200-1777388400@newfieldslibrary.org
SUMMARY:Let's Play Mah Jongg! Weekly Tuesdays
DESCRIPTION:Join us at the Library on Tuesdays in the cozy meeting room from 1-3pm to play American Mah Jongg! Whether you’re a seasoned player or just curious to learn\, you’re … Continue reading Let’s Play Mah Jongg! Weekly Tuesdays
URL:https://newfieldslibrary.org/event/lets-play-mah-jongg-weekly-tuesdays-5/2026-04-28/
LOCATION:Paul Memorial Library\, 76 Main Street\, Newfields
CATEGORIES:Mah Jongg
ATTACH;FMTTYPE=image/png:https://newfieldslibrary.org/wp-content/uploads/2025/09/Mah-Jongg-Class-1.png
ORGANIZER;CN="Paul Memorial Library":MAILTO:staff@newfieldslibrary.org
END:VEVENT
BEGIN:VEVENT
DTSTART;TZID=America/New_York:20260429T103000
DTEND;TZID=America/New_York:20260429T111500
DTSTAMP:20260424T053153
CREATED:20260328T151557Z
LAST-MODIFIED:20260423T160214Z
UID:10000307-1777458600-1777461300@newfieldslibrary.org
SUMMARY:Story Time with Mr. Andy | Wednesdays
DESCRIPTION:Join us at the Library on Tuesdays in the cozy meeting room from 1-3pm to play American Mah Jongg! Whether you’re a seasoned player or just curious to learn\, you’re … Continue reading Let’s Play Mah Jongg! Weekly Tuesdays
URL:https://newfieldslibrary.org/event/story-time-with-mr-andy-wednesdays-10/2026-04-29/
LOCATION:Paul Memorial Library\, 76 Main Street\, Newfields
CATEGORIES:Story Times
ATTACH;FMTTYPE=image/png:https://newfieldslibrary.org/wp-content/uploads/2026/01/Preschool-Story-Times-8.png
ORGANIZER;CN="Paul Memorial Library":MAILTO:staff@newfieldslibrary.org
END:VEVENT
BEGIN:VEVENT
DTSTART;TZID=America/New_York:20260505T113000
DTEND;TZID=America/New_York:20260505T121500
DTSTAMP:20260424T053154
CREATED:20260423T182950Z
LAST-MODIFIED:20260423T182950Z
UID:10000632-1777980600-1777983300@newfieldslibrary.org
SUMMARY:Infant Developmental Playgroup | 1st & 3rd Tuesdays
DESCRIPTION:Join us at the Library on Tuesdays in the cozy meeting room from 1-3pm to play American Mah Jongg! Whether you’re a seasoned player or just curious to learn\, you’re … Continue reading Let’s Play Mah Jongg! Weekly Tuesdays
URL:https://newfieldslibrary.org/event/infant-developmental-playgroup-1st-3rd-tuesdays/2026-05-05/
LOCATION:Paul Memorial Library\, 76 Main Street\, Newfields
CATEGORIES:Infant Playgroup
ATTACH;FMTTYPE=image/png:https://newfieldslibrary.org/wp-content/uploads/2026/04/Infant-Developmental-Playgroup-500-x-400-px.png
ORGANIZER;CN="Paul Memorial Library":MAILTO:staff@newfieldslibrary.org
END:VEVENT
BEGIN:VEVENT
DTSTART;TZID=America/New_York:20260505T130000
DTEND;TZID=America/New_York:20260505T150000
DTSTAMP:20260424T053154
CREATED:20260304T050618Z
LAST-MODIFIED:20260423T155740Z
UID:10000315-1777986000-1777993200@newfieldslibrary.org
SUMMARY:Let's Play Mah Jongg! Weekly Tuesdays
DESCRIPTION:Join us at the Library on Tuesdays in the cozy meeting room from 1-3pm to play American Mah Jongg! Whether you’re a seasoned player or just curious to learn\, you’re … Continue reading Let’s Play Mah Jongg! Weekly Tuesdays
URL:https://newfieldslibrary.org/event/lets-play-mah-jongg-weekly-tuesdays-5/2026-05-05/
LOCATION:Paul Memorial Library\, 76 Main Street\, Newfields
CATEGORIES:Mah Jongg
ATTACH;FMTTYPE=image/png:https://newfieldslibrary.org/wp-content/uploads/2025/09/Mah-Jongg-Class-1.png
ORGANIZER;CN="Paul Memorial Library":MAILTO:staff@newfieldslibrary.org
END:VEVENT
BEGIN:VEVENT
DTSTART;TZID=America/New_York:20260506T103000
DTEND;TZID=America/New_York:20260506T111500
DTSTAMP:20260424T053154
CREATED:20260328T151557Z
LAST-MODIFIED:20260423T160214Z
UID:10000575-1778063400-1778066100@newfieldslibrary.org
SUMMARY:Story Time with Mr. Andy | Wednesdays
DESCRIPTION:Join us at the Library on Tuesdays in the cozy meeting room from 1-3pm to play American Mah Jongg! Whether you’re a seasoned player or just curious to learn\, you’re … Continue reading Let’s Play Mah Jongg! Weekly Tuesdays
URL:https://newfieldslibrary.org/event/story-time-with-mr-andy-wednesdays-10/2026-05-06/
LOCATION:Paul Memorial Library\, 76 Main Street\, Newfields
CATEGORIES:Story Times
ATTACH;FMTTYPE=image/png:https://newfieldslibrary.org/wp-content/uploads/2026/01/Preschool-Story-Times-8.png
ORGANIZER;CN="Paul Memorial Library":MAILTO:staff@newfieldslibrary.org
END:VEVENT
BEGIN:VEVENT
DTSTART;TZID=America/New_York:20260512T130000
DTEND;TZID=America/New_York:20260512T150000
DTSTAMP:20260424T053154
CREATED:20260304T050618Z
LAST-MODIFIED:20260423T155740Z
UID:10000316-1778590800-1778598000@newfieldslibrary.org
SUMMARY:Let's Play Mah Jongg! Weekly Tuesdays
DESCRIPTION:Join us at the Library on Tuesdays in the cozy meeting room from 1-3pm to play American Mah Jongg! Whether you’re a seasoned player or just curious to learn\, you’re … Continue reading Let’s Play Mah Jongg! Weekly Tuesdays
URL:https://newfieldslibrary.org/event/lets-play-mah-jongg-weekly-tuesdays-5/2026-05-12/
LOCATION:Paul Memorial Library\, 76 Main Street\, Newfields
CATEGORIES:Mah Jongg
ATTACH;FMTTYPE=image/png:https://newfieldslibrary.org/wp-content/uploads/2025/09/Mah-Jongg-Class-1.png
ORGANIZER;CN="Paul Memorial Library":MAILTO:staff@newfieldslibrary.org
END:VEVENT
BEGIN:VEVENT
DTSTART;TZID=America/New_York:20260513T103000
DTEND;TZID=America/New_York:20260513T111500
DTSTAMP:20260424T053154
CREATED:20260328T151557Z
LAST-MODIFIED:20260423T160214Z
UID:10000576-1778668200-1778670900@newfieldslibrary.org
SUMMARY:Story Time with Mr. Andy | Wednesdays
DESCRIPTION:Join us at the Library on Tuesdays in the cozy meeting room from 1-3pm to play American Mah Jongg! Whether you’re a seasoned player or just curious to learn\, you’re … Continue reading Let’s Play Mah Jongg! Weekly Tuesdays
URL:https://newfieldslibrary.org/event/story-time-with-mr-andy-wednesdays-10/2026-05-13/
LOCATION:Paul Memorial Library\, 76 Main Street\, Newfields
CATEGORIES:Story Times
ATTACH;FMTTYPE=image/png:https://newfieldslibrary.org/wp-content/uploads/2026/01/Preschool-Story-Times-8.png
ORGANIZER;CN="Paul Memorial Library":MAILTO:staff@newfieldslibrary.org
END:VEVENT
BEGIN:VEVENT
DTSTART;TZID=America/New_York:20260516T170000
DTEND;TZID=America/New_York:20260516T200000
DTSTAMP:20260424T053154
CREATED:20260310T203143Z
LAST-MODIFIED:20260330T013620Z
UID:10000301-1778950800-1778961600@newfieldslibrary.org
SUMMARY:US@250 Big Watch | The American Revolution Film Screening + Town History Exhibit
DESCRIPTION:Join us at the Library on Tuesdays in the cozy meeting room from 1-3pm to play American Mah Jongg! Whether you’re a seasoned player or just curious to learn\, you’re … Continue reading Let’s Play Mah Jongg! Weekly Tuesdays
URL:https://newfieldslibrary.org/event/us250-big-watch-the-american-revolution-film-screening-town-history-exhibit/
LOCATION:Newfields Town Hall\, 65 Main Street\, Newfields
CATEGORIES:US250
ATTACH;FMTTYPE=image/png:https://newfieldslibrary.org/wp-content/uploads/2026/03/US@250-Big-Watch-The-American-Revolution.png
ORGANIZER;CN="Paul Memorial Library":MAILTO:staff@newfieldslibrary.org
END:VEVENT
BEGIN:VEVENT
DTSTART;TZID=America/New_York:20260519T113000
DTEND;TZID=America/New_York:20260519T121500
DTSTAMP:20260424T053154
CREATED:20260423T201903Z
LAST-MODIFIED:20260423T201903Z
UID:10000693-1779190200-1779192900@newfieldslibrary.org
SUMMARY:Infant Developmental Playgroup | 1st & 3rd Tuesdays
DESCRIPTION:Join us at the Library on Tuesdays in the cozy meeting room from 1-3pm to play American Mah Jongg! Whether you’re a seasoned player or just curious to learn\, you’re … Continue reading Let’s Play Mah Jongg! Weekly Tuesdays
URL:https://newfieldslibrary.org/event/infant-developmental-playgroup-1st-3rd-tuesdays-2-2/2026-05-19/
LOCATION:Paul Memorial Library\, 76 Main Street\, Newfields
CATEGORIES:Infant Playgroup
ATTACH;FMTTYPE=image/png:https://newfieldslibrary.org/wp-content/uploads/2026/04/Infant-Developmental-Playgroup-500-x-400-px.png
ORGANIZER;CN="Paul Memorial Library":MAILTO:staff@newfieldslibrary.org
END:VEVENT
BEGIN:VEVENT
DTSTART;TZID=America/New_York:20260519T130000
DTEND;TZID=America/New_York:20260519T150000
DTSTAMP:20260424T053154
CREATED:20260304T050618Z
LAST-MODIFIED:20260423T155740Z
UID:10000317-1779195600-1779202800@newfieldslibrary.org
SUMMARY:Let's Play Mah Jongg! Weekly Tuesdays
DESCRIPTION:Join us at the Library on Tuesdays in the cozy meeting room from 1-3pm to play American Mah Jongg! Whether you’re a seasoned player or just curious to learn\, you’re … Continue reading Let’s Play Mah Jongg! Weekly Tuesdays
URL:https://newfieldslibrary.org/event/lets-play-mah-jongg-weekly-tuesdays-5/2026-05-19/
LOCATION:Paul Memorial Library\, 76 Main Street\, Newfields
CATEGORIES:Mah Jongg
ATTACH;FMTTYPE=image/png:https://newfieldslibrary.org/wp-content/uploads/2025/09/Mah-Jongg-Class-1.png
ORGANIZER;CN="Paul Memorial Library":MAILTO:staff@newfieldslibrary.org
END:VEVENT
BEGIN:VEVENT
DTSTART;TZID=America/New_York:20260520T103000
DTEND;TZID=America/New_York:20260520T111500
DTSTAMP:20260424T053154
CREATED:20260328T151557Z
LAST-MODIFIED:20260423T160214Z
UID:10000577-1779273000-1779275700@newfieldslibrary.org
SUMMARY:Story Time with Mr. Andy | Wednesdays
DESCRIPTION:Join us at the Library on Tuesdays in the cozy meeting room from 1-3pm to play American Mah Jongg! Whether you’re a seasoned player or just curious to learn\, you’re … Continue reading Let’s Play Mah Jongg! Weekly Tuesdays
URL:https://newfieldslibrary.org/event/story-time-with-mr-andy-wednesdays-10/2026-05-20/
LOCATION:Paul Memorial Library\, 76 Main Street\, Newfields
CATEGORIES:Story Times
ATTACH;FMTTYPE=image/png:https://newfieldslibrary.org/wp-content/uploads/2026/01/Preschool-Story-Times-8.png
ORGANIZER;CN="Paul Memorial Library":MAILTO:staff@newfieldslibrary.org
END:VEVENT
BEGIN:VEVENT
DTSTART;TZID=America/New_York:20260526T130000
DTEND;TZID=America/New_York:20260526T150000
DTSTAMP:20260424T053154
CREATED:20260304T050618Z
LAST-MODIFIED:20260423T155740Z
UID:10000318-1779800400-1779807600@newfieldslibrary.org
SUMMARY:Let's Play Mah Jongg! Weekly Tuesdays
DESCRIPTION:Join us at the Library on Tuesdays in the cozy meeting room from 1-3pm to play American Mah Jongg! Whether you’re a seasoned player or just curious to learn\, you’re … Continue reading Let’s Play Mah Jongg! Weekly Tuesdays
URL:https://newfieldslibrary.org/event/lets-play-mah-jongg-weekly-tuesdays-5/2026-05-26/
LOCATION:Paul Memorial Library\, 76 Main Street\, Newfields
CATEGORIES:Mah Jongg
ATTACH;FMTTYPE=image/png:https://newfieldslibrary.org/wp-content/uploads/2025/09/Mah-Jongg-Class-1.png
ORGANIZER;CN="Paul Memorial Library":MAILTO:staff@newfieldslibrary.org
END:VEVENT
BEGIN:VEVENT
DTSTART;TZID=America/New_York:20260527T103000
DTEND;TZID=America/New_York:20260527T111500
DTSTAMP:20260424T053154
CREATED:20260328T151557Z
LAST-MODIFIED:20260423T160214Z
UID:10000578-1779877800-1779880500@newfieldslibrary.org
SUMMARY:Story Time with Mr. Andy | Wednesdays
DESCRIPTION:Join us at the Library on Tuesdays in the cozy meeting room from 1-3pm to play American Mah Jongg! Whether you’re a seasoned player or just curious to learn\, you’re … Continue reading Let’s Play Mah Jongg! Weekly Tuesdays
URL:https://newfieldslibrary.org/event/story-time-with-mr-andy-wednesdays-10/2026-05-27/
LOCATION:Paul Memorial Library\, 76 Main Street\, Newfields
CATEGORIES:Story Times
ATTACH;FMTTYPE=image/png:https://newfieldslibrary.org/wp-content/uploads/2026/01/Preschool-Story-Times-8.png
ORGANIZER;CN="Paul Memorial Library":MAILTO:staff@newfieldslibrary.org
END:VEVENT
BEGIN:VEVENT
DTSTART;TZID=America/New_York:20260602T113000
DTEND;TZID=America/New_York:20260602T121500
DTSTAMP:20260424T053154
CREATED:20260423T182950Z
LAST-MODIFIED:20260423T182950Z
UID:10000633-1780399800-1780402500@newfieldslibrary.org
SUMMARY:Infant Developmental Playgroup | 1st & 3rd Tuesdays
DESCRIPTION:Join us at the Library on Tuesdays in the cozy meeting room from 1-3pm to play American Mah Jongg! Whether you’re a seasoned player or just curious to learn\, you’re … Continue reading Let’s Play Mah Jongg! Weekly Tuesdays
URL:https://newfieldslibrary.org/event/infant-developmental-playgroup-1st-3rd-tuesdays/2026-06-02/
LOCATION:Paul Memorial Library\, 76 Main Street\, Newfields
CATEGORIES:Infant Playgroup
ATTACH;FMTTYPE=image/png:https://newfieldslibrary.org/wp-content/uploads/2026/04/Infant-Developmental-Playgroup-500-x-400-px.png
ORGANIZER;CN="Paul Memorial Library":MAILTO:staff@newfieldslibrary.org
END:VEVENT
BEGIN:VEVENT
DTSTART;TZID=America/New_York:20260602T130000
DTEND;TZID=America/New_York:20260602T150000
DTSTAMP:20260424T053154
CREATED:20260304T050618Z
LAST-MODIFIED:20260423T155740Z
UID:10000319-1780405200-1780412400@newfieldslibrary.org
SUMMARY:Let's Play Mah Jongg! Weekly Tuesdays
DESCRIPTION:Join us at the Library on Tuesdays in the cozy meeting room from 1-3pm to play American Mah Jongg! Whether you’re a seasoned player or just curious to learn\, you’re … Continue reading Let’s Play Mah Jongg! Weekly Tuesdays
URL:https://newfieldslibrary.org/event/lets-play-mah-jongg-weekly-tuesdays-5/2026-06-02/
LOCATION:Paul Memorial Library\, 76 Main Street\, Newfields
CATEGORIES:Mah Jongg
ATTACH;FMTTYPE=image/png:https://newfieldslibrary.org/wp-content/uploads/2025/09/Mah-Jongg-Class-1.png
ORGANIZER;CN="Paul Memorial Library":MAILTO:staff@newfieldslibrary.org
END:VEVENT
BEGIN:VEVENT
DTSTART;TZID=America/New_York:20260603T103000
DTEND;TZID=America/New_York:20260603T111500
DTSTAMP:20260424T053154
CREATED:20260328T151557Z
LAST-MODIFIED:20260423T160214Z
UID:10000579-1780482600-1780485300@newfieldslibrary.org
SUMMARY:Story Time with Mr. Andy | Wednesdays
DESCRIPTION:Join us at the Library on Tuesdays in the cozy meeting room from 1-3pm to play American Mah Jongg! Whether you’re a seasoned player or just curious to learn\, you’re … Continue reading Let’s Play Mah Jongg! Weekly Tuesdays
URL:https://newfieldslibrary.org/event/story-time-with-mr-andy-wednesdays-10/2026-06-03/
LOCATION:Paul Memorial Library\, 76 Main Street\, Newfields
CATEGORIES:Story Times
ATTACH;FMTTYPE=image/png:https://newfieldslibrary.org/wp-content/uploads/2026/01/Preschool-Story-Times-8.png
ORGANIZER;CN="Paul Memorial Library":MAILTO:staff@newfieldslibrary.org
END:VEVENT
BEGIN:VEVENT
DTSTART;TZID=America/New_York:20260609T130000
DTEND;TZID=America/New_York:20260609T150000
DTSTAMP:20260424T053154
CREATED:20260304T050618Z
LAST-MODIFIED:20260423T155740Z
UID:10000320-1781010000-1781017200@newfieldslibrary.org
SUMMARY:Let's Play Mah Jongg! Weekly Tuesdays
DESCRIPTION:Join us at the Library on Tuesdays in the cozy meeting room from 1-3pm to play American Mah Jongg! Whether you’re a seasoned player or just curious to learn\, you’re … Continue reading Let’s Play Mah Jongg! Weekly Tuesdays
URL:https://newfieldslibrary.org/event/lets-play-mah-jongg-weekly-tuesdays-5/2026-06-09/
LOCATION:Paul Memorial Library\, 76 Main Street\, Newfields
CATEGORIES:Mah Jongg
ATTACH;FMTTYPE=image/png:https://newfieldslibrary.org/wp-content/uploads/2025/09/Mah-Jongg-Class-1.png
ORGANIZER;CN="Paul Memorial Library":MAILTO:staff@newfieldslibrary.org
END:VEVENT
END:VCALENDAR