BEGIN:VCALENDAR
VERSION:2.0
PRODID:-//Paul Memorial Library - ECPv6.15.20//NONSGML v1.0//EN
CALSCALE:GREGORIAN
METHOD:PUBLISH
X-WR-CALNAME:Paul Memorial Library
X-ORIGINAL-URL:https://newfieldslibrary.org
X-WR-CALDESC:Events for Paul Memorial Library
REFRESH-INTERVAL;VALUE=DURATION:PT1H
X-Robots-Tag:noindex
X-PUBLISHED-TTL:PT1H
BEGIN:VTIMEZONE
TZID:America/New_York
BEGIN:DAYLIGHT
TZOFFSETFROM:-0500
TZOFFSETTO:-0400
TZNAME:EDT
DTSTART:20250309T070000
END:DAYLIGHT
BEGIN:STANDARD
TZOFFSETFROM:-0400
TZOFFSETTO:-0500
TZNAME:EST
DTSTART:20251102T060000
END:STANDARD
BEGIN:DAYLIGHT
TZOFFSETFROM:-0500
TZOFFSETTO:-0400
TZNAME:EDT
DTSTART:20260308T070000
END:DAYLIGHT
BEGIN:STANDARD
TZOFFSETFROM:-0400
TZOFFSETTO:-0500
TZNAME:EST
DTSTART:20261101T060000
END:STANDARD
BEGIN:DAYLIGHT
TZOFFSETFROM:-0500
TZOFFSETTO:-0400
TZNAME:EDT
DTSTART:20270314T070000
END:DAYLIGHT
BEGIN:STANDARD
TZOFFSETFROM:-0400
TZOFFSETTO:-0500
TZNAME:EST
DTSTART:20271107T060000
END:STANDARD
END:VTIMEZONE
BEGIN:VEVENT
DTSTART;TZID=America/New_York:20260513T103000
DTEND;TZID=America/New_York:20260513T111500
DTSTAMP:20260424T053035
CREATED:20260328T151557Z
LAST-MODIFIED:20260423T160214Z
UID:10000576-1778668200-1778670900@newfieldslibrary.org
SUMMARY:Story Time with Mr. Andy | Wednesdays
DESCRIPTION:Join us at the Library on Tuesdays in the cozy meeting room from 1-3pm to play American Mah Jongg! Whether you’re a seasoned player or just curious to learn\, you’re … Continue reading Let’s Play Mah Jongg! Weekly Tuesdays
URL:https://newfieldslibrary.org/event/story-time-with-mr-andy-wednesdays-10/2026-05-13/
LOCATION:Paul Memorial Library\, 76 Main Street\, Newfields
CATEGORIES:Story Times
ATTACH;FMTTYPE=image/png:https://newfieldslibrary.org/wp-content/uploads/2026/01/Preschool-Story-Times-8.png
ORGANIZER;CN="Paul Memorial Library":MAILTO:staff@newfieldslibrary.org
END:VEVENT
BEGIN:VEVENT
DTSTART;TZID=America/New_York:20260516T170000
DTEND;TZID=America/New_York:20260516T200000
DTSTAMP:20260424T053035
CREATED:20260310T203143Z
LAST-MODIFIED:20260330T013620Z
UID:10000301-1778950800-1778961600@newfieldslibrary.org
SUMMARY:US@250 Big Watch | The American Revolution Film Screening + Town History Exhibit
DESCRIPTION:Join us at the Library on Tuesdays in the cozy meeting room from 1-3pm to play American Mah Jongg! Whether you’re a seasoned player or just curious to learn\, you’re … Continue reading Let’s Play Mah Jongg! Weekly Tuesdays
URL:https://newfieldslibrary.org/event/us250-big-watch-the-american-revolution-film-screening-town-history-exhibit/
LOCATION:Newfields Town Hall\, 65 Main Street\, Newfields
CATEGORIES:US250
ATTACH;FMTTYPE=image/png:https://newfieldslibrary.org/wp-content/uploads/2026/03/US@250-Big-Watch-The-American-Revolution.png
ORGANIZER;CN="Paul Memorial Library":MAILTO:staff@newfieldslibrary.org
END:VEVENT
BEGIN:VEVENT
DTSTART;TZID=America/New_York:20260519T113000
DTEND;TZID=America/New_York:20260519T121500
DTSTAMP:20260424T053035
CREATED:20260423T201903Z
LAST-MODIFIED:20260423T201903Z
UID:10000693-1779190200-1779192900@newfieldslibrary.org
SUMMARY:Infant Developmental Playgroup | 1st & 3rd Tuesdays
DESCRIPTION:Join us at the Library on Tuesdays in the cozy meeting room from 1-3pm to play American Mah Jongg! Whether you’re a seasoned player or just curious to learn\, you’re … Continue reading Let’s Play Mah Jongg! Weekly Tuesdays
URL:https://newfieldslibrary.org/event/infant-developmental-playgroup-1st-3rd-tuesdays-2-2/2026-05-19/
LOCATION:Paul Memorial Library\, 76 Main Street\, Newfields
CATEGORIES:Infant Playgroup
ATTACH;FMTTYPE=image/png:https://newfieldslibrary.org/wp-content/uploads/2026/04/Infant-Developmental-Playgroup-500-x-400-px.png
ORGANIZER;CN="Paul Memorial Library":MAILTO:staff@newfieldslibrary.org
END:VEVENT
BEGIN:VEVENT
DTSTART;TZID=America/New_York:20260519T130000
DTEND;TZID=America/New_York:20260519T150000
DTSTAMP:20260424T053035
CREATED:20260304T050618Z
LAST-MODIFIED:20260423T155740Z
UID:10000317-1779195600-1779202800@newfieldslibrary.org
SUMMARY:Let's Play Mah Jongg! Weekly Tuesdays
DESCRIPTION:Join us at the Library on Tuesdays in the cozy meeting room from 1-3pm to play American Mah Jongg! Whether you’re a seasoned player or just curious to learn\, you’re … Continue reading Let’s Play Mah Jongg! Weekly Tuesdays
URL:https://newfieldslibrary.org/event/lets-play-mah-jongg-weekly-tuesdays-5/2026-05-19/
LOCATION:Paul Memorial Library\, 76 Main Street\, Newfields
CATEGORIES:Mah Jongg
ATTACH;FMTTYPE=image/png:https://newfieldslibrary.org/wp-content/uploads/2025/09/Mah-Jongg-Class-1.png
ORGANIZER;CN="Paul Memorial Library":MAILTO:staff@newfieldslibrary.org
END:VEVENT
BEGIN:VEVENT
DTSTART;TZID=America/New_York:20260520T103000
DTEND;TZID=America/New_York:20260520T111500
DTSTAMP:20260424T053035
CREATED:20260328T151557Z
LAST-MODIFIED:20260423T160214Z
UID:10000577-1779273000-1779275700@newfieldslibrary.org
SUMMARY:Story Time with Mr. Andy | Wednesdays
DESCRIPTION:Join us at the Library on Tuesdays in the cozy meeting room from 1-3pm to play American Mah Jongg! Whether you’re a seasoned player or just curious to learn\, you’re … Continue reading Let’s Play Mah Jongg! Weekly Tuesdays
URL:https://newfieldslibrary.org/event/story-time-with-mr-andy-wednesdays-10/2026-05-20/
LOCATION:Paul Memorial Library\, 76 Main Street\, Newfields
CATEGORIES:Story Times
ATTACH;FMTTYPE=image/png:https://newfieldslibrary.org/wp-content/uploads/2026/01/Preschool-Story-Times-8.png
ORGANIZER;CN="Paul Memorial Library":MAILTO:staff@newfieldslibrary.org
END:VEVENT
BEGIN:VEVENT
DTSTART;TZID=America/New_York:20260526T130000
DTEND;TZID=America/New_York:20260526T150000
DTSTAMP:20260424T053035
CREATED:20260304T050618Z
LAST-MODIFIED:20260423T155740Z
UID:10000318-1779800400-1779807600@newfieldslibrary.org
SUMMARY:Let's Play Mah Jongg! Weekly Tuesdays
DESCRIPTION:Join us at the Library on Tuesdays in the cozy meeting room from 1-3pm to play American Mah Jongg! Whether you’re a seasoned player or just curious to learn\, you’re … Continue reading Let’s Play Mah Jongg! Weekly Tuesdays
URL:https://newfieldslibrary.org/event/lets-play-mah-jongg-weekly-tuesdays-5/2026-05-26/
LOCATION:Paul Memorial Library\, 76 Main Street\, Newfields
CATEGORIES:Mah Jongg
ATTACH;FMTTYPE=image/png:https://newfieldslibrary.org/wp-content/uploads/2025/09/Mah-Jongg-Class-1.png
ORGANIZER;CN="Paul Memorial Library":MAILTO:staff@newfieldslibrary.org
END:VEVENT
BEGIN:VEVENT
DTSTART;TZID=America/New_York:20260527T103000
DTEND;TZID=America/New_York:20260527T111500
DTSTAMP:20260424T053035
CREATED:20260328T151557Z
LAST-MODIFIED:20260423T160214Z
UID:10000578-1779877800-1779880500@newfieldslibrary.org
SUMMARY:Story Time with Mr. Andy | Wednesdays
DESCRIPTION:Join us at the Library on Tuesdays in the cozy meeting room from 1-3pm to play American Mah Jongg! Whether you’re a seasoned player or just curious to learn\, you’re … Continue reading Let’s Play Mah Jongg! Weekly Tuesdays
URL:https://newfieldslibrary.org/event/story-time-with-mr-andy-wednesdays-10/2026-05-27/
LOCATION:Paul Memorial Library\, 76 Main Street\, Newfields
CATEGORIES:Story Times
ATTACH;FMTTYPE=image/png:https://newfieldslibrary.org/wp-content/uploads/2026/01/Preschool-Story-Times-8.png
ORGANIZER;CN="Paul Memorial Library":MAILTO:staff@newfieldslibrary.org
END:VEVENT
BEGIN:VEVENT
DTSTART;TZID=America/New_York:20260602T113000
DTEND;TZID=America/New_York:20260602T121500
DTSTAMP:20260424T053035
CREATED:20260423T182950Z
LAST-MODIFIED:20260423T182950Z
UID:10000633-1780399800-1780402500@newfieldslibrary.org
SUMMARY:Infant Developmental Playgroup | 1st & 3rd Tuesdays
DESCRIPTION:Join us at the Library on Tuesdays in the cozy meeting room from 1-3pm to play American Mah Jongg! Whether you’re a seasoned player or just curious to learn\, you’re … Continue reading Let’s Play Mah Jongg! Weekly Tuesdays
URL:https://newfieldslibrary.org/event/infant-developmental-playgroup-1st-3rd-tuesdays/2026-06-02/
LOCATION:Paul Memorial Library\, 76 Main Street\, Newfields
CATEGORIES:Infant Playgroup
ATTACH;FMTTYPE=image/png:https://newfieldslibrary.org/wp-content/uploads/2026/04/Infant-Developmental-Playgroup-500-x-400-px.png
ORGANIZER;CN="Paul Memorial Library":MAILTO:staff@newfieldslibrary.org
END:VEVENT
BEGIN:VEVENT
DTSTART;TZID=America/New_York:20260602T130000
DTEND;TZID=America/New_York:20260602T150000
DTSTAMP:20260424T053035
CREATED:20260304T050618Z
LAST-MODIFIED:20260423T155740Z
UID:10000319-1780405200-1780412400@newfieldslibrary.org
SUMMARY:Let's Play Mah Jongg! Weekly Tuesdays
DESCRIPTION:Join us at the Library on Tuesdays in the cozy meeting room from 1-3pm to play American Mah Jongg! Whether you’re a seasoned player or just curious to learn\, you’re … Continue reading Let’s Play Mah Jongg! Weekly Tuesdays
URL:https://newfieldslibrary.org/event/lets-play-mah-jongg-weekly-tuesdays-5/2026-06-02/
LOCATION:Paul Memorial Library\, 76 Main Street\, Newfields
CATEGORIES:Mah Jongg
ATTACH;FMTTYPE=image/png:https://newfieldslibrary.org/wp-content/uploads/2025/09/Mah-Jongg-Class-1.png
ORGANIZER;CN="Paul Memorial Library":MAILTO:staff@newfieldslibrary.org
END:VEVENT
BEGIN:VEVENT
DTSTART;TZID=America/New_York:20260603T103000
DTEND;TZID=America/New_York:20260603T111500
DTSTAMP:20260424T053035
CREATED:20260328T151557Z
LAST-MODIFIED:20260423T160214Z
UID:10000579-1780482600-1780485300@newfieldslibrary.org
SUMMARY:Story Time with Mr. Andy | Wednesdays
DESCRIPTION:Join us at the Library on Tuesdays in the cozy meeting room from 1-3pm to play American Mah Jongg! Whether you’re a seasoned player or just curious to learn\, you’re … Continue reading Let’s Play Mah Jongg! Weekly Tuesdays
URL:https://newfieldslibrary.org/event/story-time-with-mr-andy-wednesdays-10/2026-06-03/
LOCATION:Paul Memorial Library\, 76 Main Street\, Newfields
CATEGORIES:Story Times
ATTACH;FMTTYPE=image/png:https://newfieldslibrary.org/wp-content/uploads/2026/01/Preschool-Story-Times-8.png
ORGANIZER;CN="Paul Memorial Library":MAILTO:staff@newfieldslibrary.org
END:VEVENT
BEGIN:VEVENT
DTSTART;TZID=America/New_York:20260609T130000
DTEND;TZID=America/New_York:20260609T150000
DTSTAMP:20260424T053035
CREATED:20260304T050618Z
LAST-MODIFIED:20260423T155740Z
UID:10000320-1781010000-1781017200@newfieldslibrary.org
SUMMARY:Let's Play Mah Jongg! Weekly Tuesdays
DESCRIPTION:Join us at the Library on Tuesdays in the cozy meeting room from 1-3pm to play American Mah Jongg! Whether you’re a seasoned player or just curious to learn\, you’re … Continue reading Let’s Play Mah Jongg! Weekly Tuesdays
URL:https://newfieldslibrary.org/event/lets-play-mah-jongg-weekly-tuesdays-5/2026-06-09/
LOCATION:Paul Memorial Library\, 76 Main Street\, Newfields
CATEGORIES:Mah Jongg
ATTACH;FMTTYPE=image/png:https://newfieldslibrary.org/wp-content/uploads/2025/09/Mah-Jongg-Class-1.png
ORGANIZER;CN="Paul Memorial Library":MAILTO:staff@newfieldslibrary.org
END:VEVENT
BEGIN:VEVENT
DTSTART;TZID=America/New_York:20260610T103000
DTEND;TZID=America/New_York:20260610T111500
DTSTAMP:20260424T053035
CREATED:20260328T151557Z
LAST-MODIFIED:20260423T160214Z
UID:10000580-1781087400-1781090100@newfieldslibrary.org
SUMMARY:Story Time with Mr. Andy | Wednesdays
DESCRIPTION:Join us at the Library on Tuesdays in the cozy meeting room from 1-3pm to play American Mah Jongg! Whether you’re a seasoned player or just curious to learn\, you’re … Continue reading Let’s Play Mah Jongg! Weekly Tuesdays
URL:https://newfieldslibrary.org/event/story-time-with-mr-andy-wednesdays-10/2026-06-10/
LOCATION:Paul Memorial Library\, 76 Main Street\, Newfields
CATEGORIES:Story Times
ATTACH;FMTTYPE=image/png:https://newfieldslibrary.org/wp-content/uploads/2026/01/Preschool-Story-Times-8.png
ORGANIZER;CN="Paul Memorial Library":MAILTO:staff@newfieldslibrary.org
END:VEVENT
BEGIN:VEVENT
DTSTART;TZID=America/New_York:20260616T113000
DTEND;TZID=America/New_York:20260616T121500
DTSTAMP:20260424T053035
CREATED:20260423T201903Z
LAST-MODIFIED:20260423T201903Z
UID:10000694-1781609400-1781612100@newfieldslibrary.org
SUMMARY:Infant Developmental Playgroup | 1st & 3rd Tuesdays
DESCRIPTION:Join us at the Library on Tuesdays in the cozy meeting room from 1-3pm to play American Mah Jongg! Whether you’re a seasoned player or just curious to learn\, you’re … Continue reading Let’s Play Mah Jongg! Weekly Tuesdays
URL:https://newfieldslibrary.org/event/infant-developmental-playgroup-1st-3rd-tuesdays-2-2/2026-06-16/
LOCATION:Paul Memorial Library\, 76 Main Street\, Newfields
CATEGORIES:Infant Playgroup
ATTACH;FMTTYPE=image/png:https://newfieldslibrary.org/wp-content/uploads/2026/04/Infant-Developmental-Playgroup-500-x-400-px.png
ORGANIZER;CN="Paul Memorial Library":MAILTO:staff@newfieldslibrary.org
END:VEVENT
BEGIN:VEVENT
DTSTART;TZID=America/New_York:20260616T130000
DTEND;TZID=America/New_York:20260616T150000
DTSTAMP:20260424T053035
CREATED:20260304T050618Z
LAST-MODIFIED:20260423T155740Z
UID:10000321-1781614800-1781622000@newfieldslibrary.org
SUMMARY:Let's Play Mah Jongg! Weekly Tuesdays
DESCRIPTION:Join us at the Library on Tuesdays in the cozy meeting room from 1-3pm to play American Mah Jongg! Whether you’re a seasoned player or just curious to learn\, you’re … Continue reading Let’s Play Mah Jongg! Weekly Tuesdays
URL:https://newfieldslibrary.org/event/lets-play-mah-jongg-weekly-tuesdays-5/2026-06-16/
LOCATION:Paul Memorial Library\, 76 Main Street\, Newfields
CATEGORIES:Mah Jongg
ATTACH;FMTTYPE=image/png:https://newfieldslibrary.org/wp-content/uploads/2025/09/Mah-Jongg-Class-1.png
ORGANIZER;CN="Paul Memorial Library":MAILTO:staff@newfieldslibrary.org
END:VEVENT
BEGIN:VEVENT
DTSTART;TZID=America/New_York:20260617T103000
DTEND;TZID=America/New_York:20260617T111500
DTSTAMP:20260424T053035
CREATED:20260328T151557Z
LAST-MODIFIED:20260423T160214Z
UID:10000581-1781692200-1781694900@newfieldslibrary.org
SUMMARY:Story Time with Mr. Andy | Wednesdays
DESCRIPTION:Join us at the Library on Tuesdays in the cozy meeting room from 1-3pm to play American Mah Jongg! Whether you’re a seasoned player or just curious to learn\, you’re … Continue reading Let’s Play Mah Jongg! Weekly Tuesdays
URL:https://newfieldslibrary.org/event/story-time-with-mr-andy-wednesdays-10/2026-06-17/
LOCATION:Paul Memorial Library\, 76 Main Street\, Newfields
CATEGORIES:Story Times
ATTACH;FMTTYPE=image/png:https://newfieldslibrary.org/wp-content/uploads/2026/01/Preschool-Story-Times-8.png
ORGANIZER;CN="Paul Memorial Library":MAILTO:staff@newfieldslibrary.org
END:VEVENT
BEGIN:VEVENT
DTSTART;TZID=America/New_York:20260623T130000
DTEND;TZID=America/New_York:20260623T150000
DTSTAMP:20260424T053035
CREATED:20260304T050618Z
LAST-MODIFIED:20260423T155740Z
UID:10000322-1782219600-1782226800@newfieldslibrary.org
SUMMARY:Let's Play Mah Jongg! Weekly Tuesdays
DESCRIPTION:Join us at the Library on Tuesdays in the cozy meeting room from 1-3pm to play American Mah Jongg! Whether you’re a seasoned player or just curious to learn\, you’re … Continue reading Let’s Play Mah Jongg! Weekly Tuesdays
URL:https://newfieldslibrary.org/event/lets-play-mah-jongg-weekly-tuesdays-5/2026-06-23/
LOCATION:Paul Memorial Library\, 76 Main Street\, Newfields
CATEGORIES:Mah Jongg
ATTACH;FMTTYPE=image/png:https://newfieldslibrary.org/wp-content/uploads/2025/09/Mah-Jongg-Class-1.png
ORGANIZER;CN="Paul Memorial Library":MAILTO:staff@newfieldslibrary.org
END:VEVENT
BEGIN:VEVENT
DTSTART;TZID=America/New_York:20260624T103000
DTEND;TZID=America/New_York:20260624T111500
DTSTAMP:20260424T053035
CREATED:20260328T151557Z
LAST-MODIFIED:20260423T160214Z
UID:10000582-1782297000-1782299700@newfieldslibrary.org
SUMMARY:Story Time with Mr. Andy | Wednesdays
DESCRIPTION:Join us at the Library on Tuesdays in the cozy meeting room from 1-3pm to play American Mah Jongg! Whether you’re a seasoned player or just curious to learn\, you’re … Continue reading Let’s Play Mah Jongg! Weekly Tuesdays
URL:https://newfieldslibrary.org/event/story-time-with-mr-andy-wednesdays-10/2026-06-24/
LOCATION:Paul Memorial Library\, 76 Main Street\, Newfields
CATEGORIES:Story Times
ATTACH;FMTTYPE=image/png:https://newfieldslibrary.org/wp-content/uploads/2026/01/Preschool-Story-Times-8.png
ORGANIZER;CN="Paul Memorial Library":MAILTO:staff@newfieldslibrary.org
END:VEVENT
BEGIN:VEVENT
DTSTART;TZID=America/New_York:20260630T130000
DTEND;TZID=America/New_York:20260630T150000
DTSTAMP:20260424T053035
CREATED:20260304T050618Z
LAST-MODIFIED:20260423T155740Z
UID:10000323-1782824400-1782831600@newfieldslibrary.org
SUMMARY:Let's Play Mah Jongg! Weekly Tuesdays
DESCRIPTION:Join us at the Library on Tuesdays in the cozy meeting room from 1-3pm to play American Mah Jongg! Whether you’re a seasoned player or just curious to learn\, you’re … Continue reading Let’s Play Mah Jongg! Weekly Tuesdays
URL:https://newfieldslibrary.org/event/lets-play-mah-jongg-weekly-tuesdays-5/2026-06-30/
LOCATION:Paul Memorial Library\, 76 Main Street\, Newfields
CATEGORIES:Mah Jongg
ATTACH;FMTTYPE=image/png:https://newfieldslibrary.org/wp-content/uploads/2025/09/Mah-Jongg-Class-1.png
ORGANIZER;CN="Paul Memorial Library":MAILTO:staff@newfieldslibrary.org
END:VEVENT
BEGIN:VEVENT
DTSTART;TZID=America/New_York:20260701T103000
DTEND;TZID=America/New_York:20260701T111500
DTSTAMP:20260424T053035
CREATED:20260328T151557Z
LAST-MODIFIED:20260423T160214Z
UID:10000583-1782901800-1782904500@newfieldslibrary.org
SUMMARY:Story Time with Mr. Andy | Wednesdays
DESCRIPTION:Join us at the Library on Tuesdays in the cozy meeting room from 1-3pm to play American Mah Jongg! Whether you’re a seasoned player or just curious to learn\, you’re … Continue reading Let’s Play Mah Jongg! Weekly Tuesdays
URL:https://newfieldslibrary.org/event/story-time-with-mr-andy-wednesdays-10/2026-07-01/
LOCATION:Paul Memorial Library\, 76 Main Street\, Newfields
CATEGORIES:Story Times
ATTACH;FMTTYPE=image/png:https://newfieldslibrary.org/wp-content/uploads/2026/01/Preschool-Story-Times-8.png
ORGANIZER;CN="Paul Memorial Library":MAILTO:staff@newfieldslibrary.org
END:VEVENT
BEGIN:VEVENT
DTSTART;TZID=America/New_York:20260707T113000
DTEND;TZID=America/New_York:20260707T121500
DTSTAMP:20260424T053035
CREATED:20260423T182950Z
LAST-MODIFIED:20260423T182950Z
UID:10000634-1783423800-1783426500@newfieldslibrary.org
SUMMARY:Infant Developmental Playgroup | 1st & 3rd Tuesdays
DESCRIPTION:Join us at the Library on Tuesdays in the cozy meeting room from 1-3pm to play American Mah Jongg! Whether you’re a seasoned player or just curious to learn\, you’re … Continue reading Let’s Play Mah Jongg! Weekly Tuesdays
URL:https://newfieldslibrary.org/event/infant-developmental-playgroup-1st-3rd-tuesdays/2026-07-07/
LOCATION:Paul Memorial Library\, 76 Main Street\, Newfields
CATEGORIES:Infant Playgroup
ATTACH;FMTTYPE=image/png:https://newfieldslibrary.org/wp-content/uploads/2026/04/Infant-Developmental-Playgroup-500-x-400-px.png
ORGANIZER;CN="Paul Memorial Library":MAILTO:staff@newfieldslibrary.org
END:VEVENT
BEGIN:VEVENT
DTSTART;TZID=America/New_York:20260707T130000
DTEND;TZID=America/New_York:20260707T150000
DTSTAMP:20260424T053035
CREATED:20260304T050618Z
LAST-MODIFIED:20260423T155740Z
UID:10000324-1783429200-1783436400@newfieldslibrary.org
SUMMARY:Let's Play Mah Jongg! Weekly Tuesdays
DESCRIPTION:Join us at the Library on Tuesdays in the cozy meeting room from 1-3pm to play American Mah Jongg! Whether you’re a seasoned player or just curious to learn\, you’re … Continue reading Let’s Play Mah Jongg! Weekly Tuesdays
URL:https://newfieldslibrary.org/event/lets-play-mah-jongg-weekly-tuesdays-5/2026-07-07/
LOCATION:Paul Memorial Library\, 76 Main Street\, Newfields
CATEGORIES:Mah Jongg
ATTACH;FMTTYPE=image/png:https://newfieldslibrary.org/wp-content/uploads/2025/09/Mah-Jongg-Class-1.png
ORGANIZER;CN="Paul Memorial Library":MAILTO:staff@newfieldslibrary.org
END:VEVENT
BEGIN:VEVENT
DTSTART;TZID=America/New_York:20260708T103000
DTEND;TZID=America/New_York:20260708T111500
DTSTAMP:20260424T053035
CREATED:20260328T151557Z
LAST-MODIFIED:20260423T160214Z
UID:10000584-1783506600-1783509300@newfieldslibrary.org
SUMMARY:Story Time with Mr. Andy | Wednesdays
DESCRIPTION:Join us at the Library on Tuesdays in the cozy meeting room from 1-3pm to play American Mah Jongg! Whether you’re a seasoned player or just curious to learn\, you’re … Continue reading Let’s Play Mah Jongg! Weekly Tuesdays
URL:https://newfieldslibrary.org/event/story-time-with-mr-andy-wednesdays-10/2026-07-08/
LOCATION:Paul Memorial Library\, 76 Main Street\, Newfields
CATEGORIES:Story Times
ATTACH;FMTTYPE=image/png:https://newfieldslibrary.org/wp-content/uploads/2026/01/Preschool-Story-Times-8.png
ORGANIZER;CN="Paul Memorial Library":MAILTO:staff@newfieldslibrary.org
END:VEVENT
BEGIN:VEVENT
DTSTART;TZID=America/New_York:20260714T130000
DTEND;TZID=America/New_York:20260714T150000
DTSTAMP:20260424T053035
CREATED:20260304T050618Z
LAST-MODIFIED:20260423T155740Z
UID:10000325-1784034000-1784041200@newfieldslibrary.org
SUMMARY:Let's Play Mah Jongg! Weekly Tuesdays
DESCRIPTION:Join us at the Library on Tuesdays in the cozy meeting room from 1-3pm to play American Mah Jongg! Whether you’re a seasoned player or just curious to learn\, you’re … Continue reading Let’s Play Mah Jongg! Weekly Tuesdays
URL:https://newfieldslibrary.org/event/lets-play-mah-jongg-weekly-tuesdays-5/2026-07-14/
LOCATION:Paul Memorial Library\, 76 Main Street\, Newfields
CATEGORIES:Mah Jongg
ATTACH;FMTTYPE=image/png:https://newfieldslibrary.org/wp-content/uploads/2025/09/Mah-Jongg-Class-1.png
ORGANIZER;CN="Paul Memorial Library":MAILTO:staff@newfieldslibrary.org
END:VEVENT
BEGIN:VEVENT
DTSTART;TZID=America/New_York:20260715T103000
DTEND;TZID=America/New_York:20260715T111500
DTSTAMP:20260424T053035
CREATED:20260328T151557Z
LAST-MODIFIED:20260423T160214Z
UID:10000585-1784111400-1784114100@newfieldslibrary.org
SUMMARY:Story Time with Mr. Andy | Wednesdays
DESCRIPTION:Join us at the Library on Tuesdays in the cozy meeting room from 1-3pm to play American Mah Jongg! Whether you’re a seasoned player or just curious to learn\, you’re … Continue reading Let’s Play Mah Jongg! Weekly Tuesdays
URL:https://newfieldslibrary.org/event/story-time-with-mr-andy-wednesdays-10/2026-07-15/
LOCATION:Paul Memorial Library\, 76 Main Street\, Newfields
CATEGORIES:Story Times
ATTACH;FMTTYPE=image/png:https://newfieldslibrary.org/wp-content/uploads/2026/01/Preschool-Story-Times-8.png
ORGANIZER;CN="Paul Memorial Library":MAILTO:staff@newfieldslibrary.org
END:VEVENT
BEGIN:VEVENT
DTSTART;TZID=America/New_York:20260721T113000
DTEND;TZID=America/New_York:20260721T121500
DTSTAMP:20260424T053035
CREATED:20260423T201903Z
LAST-MODIFIED:20260423T201903Z
UID:10000695-1784633400-1784636100@newfieldslibrary.org
SUMMARY:Infant Developmental Playgroup | 1st & 3rd Tuesdays
DESCRIPTION:Join us at the Library on Tuesdays in the cozy meeting room from 1-3pm to play American Mah Jongg! Whether you’re a seasoned player or just curious to learn\, you’re … Continue reading Let’s Play Mah Jongg! Weekly Tuesdays
URL:https://newfieldslibrary.org/event/infant-developmental-playgroup-1st-3rd-tuesdays-2-2/2026-07-21/
LOCATION:Paul Memorial Library\, 76 Main Street\, Newfields
CATEGORIES:Infant Playgroup
ATTACH;FMTTYPE=image/png:https://newfieldslibrary.org/wp-content/uploads/2026/04/Infant-Developmental-Playgroup-500-x-400-px.png
ORGANIZER;CN="Paul Memorial Library":MAILTO:staff@newfieldslibrary.org
END:VEVENT
BEGIN:VEVENT
DTSTART;TZID=America/New_York:20260721T130000
DTEND;TZID=America/New_York:20260721T150000
DTSTAMP:20260424T053035
CREATED:20260304T050618Z
LAST-MODIFIED:20260423T155740Z
UID:10000326-1784638800-1784646000@newfieldslibrary.org
SUMMARY:Let's Play Mah Jongg! Weekly Tuesdays
DESCRIPTION:Join us at the Library on Tuesdays in the cozy meeting room from 1-3pm to play American Mah Jongg! Whether you’re a seasoned player or just curious to learn\, you’re … Continue reading Let’s Play Mah Jongg! Weekly Tuesdays
URL:https://newfieldslibrary.org/event/lets-play-mah-jongg-weekly-tuesdays-5/2026-07-21/
LOCATION:Paul Memorial Library\, 76 Main Street\, Newfields
CATEGORIES:Mah Jongg
ATTACH;FMTTYPE=image/png:https://newfieldslibrary.org/wp-content/uploads/2025/09/Mah-Jongg-Class-1.png
ORGANIZER;CN="Paul Memorial Library":MAILTO:staff@newfieldslibrary.org
END:VEVENT
BEGIN:VEVENT
DTSTART;TZID=America/New_York:20260722T103000
DTEND;TZID=America/New_York:20260722T111500
DTSTAMP:20260424T053035
CREATED:20260328T151557Z
LAST-MODIFIED:20260423T160214Z
UID:10000586-1784716200-1784718900@newfieldslibrary.org
SUMMARY:Story Time with Mr. Andy | Wednesdays
DESCRIPTION:Join us at the Library on Tuesdays in the cozy meeting room from 1-3pm to play American Mah Jongg! Whether you’re a seasoned player or just curious to learn\, you’re … Continue reading Let’s Play Mah Jongg! Weekly Tuesdays
URL:https://newfieldslibrary.org/event/story-time-with-mr-andy-wednesdays-10/2026-07-22/
LOCATION:Paul Memorial Library\, 76 Main Street\, Newfields
CATEGORIES:Story Times
ATTACH;FMTTYPE=image/png:https://newfieldslibrary.org/wp-content/uploads/2026/01/Preschool-Story-Times-8.png
ORGANIZER;CN="Paul Memorial Library":MAILTO:staff@newfieldslibrary.org
END:VEVENT
BEGIN:VEVENT
DTSTART;TZID=America/New_York:20260728T130000
DTEND;TZID=America/New_York:20260728T150000
DTSTAMP:20260424T053035
CREATED:20260304T050618Z
LAST-MODIFIED:20260423T155740Z
UID:10000327-1785243600-1785250800@newfieldslibrary.org
SUMMARY:Let's Play Mah Jongg! Weekly Tuesdays
DESCRIPTION:Join us at the Library on Tuesdays in the cozy meeting room from 1-3pm to play American Mah Jongg! Whether you’re a seasoned player or just curious to learn\, you’re … Continue reading Let’s Play Mah Jongg! Weekly Tuesdays
URL:https://newfieldslibrary.org/event/lets-play-mah-jongg-weekly-tuesdays-5/2026-07-28/
LOCATION:Paul Memorial Library\, 76 Main Street\, Newfields
CATEGORIES:Mah Jongg
ATTACH;FMTTYPE=image/png:https://newfieldslibrary.org/wp-content/uploads/2025/09/Mah-Jongg-Class-1.png
ORGANIZER;CN="Paul Memorial Library":MAILTO:staff@newfieldslibrary.org
END:VEVENT
BEGIN:VEVENT
DTSTART;TZID=America/New_York:20260729T103000
DTEND;TZID=America/New_York:20260729T111500
DTSTAMP:20260424T053035
CREATED:20260328T151557Z
LAST-MODIFIED:20260423T160214Z
UID:10000587-1785321000-1785323700@newfieldslibrary.org
SUMMARY:Story Time with Mr. Andy | Wednesdays
DESCRIPTION:Join us at the Library on Tuesdays in the cozy meeting room from 1-3pm to play American Mah Jongg! Whether you’re a seasoned player or just curious to learn\, you’re … Continue reading Let’s Play Mah Jongg! Weekly Tuesdays
URL:https://newfieldslibrary.org/event/story-time-with-mr-andy-wednesdays-10/2026-07-29/
LOCATION:Paul Memorial Library\, 76 Main Street\, Newfields
CATEGORIES:Story Times
ATTACH;FMTTYPE=image/png:https://newfieldslibrary.org/wp-content/uploads/2026/01/Preschool-Story-Times-8.png
ORGANIZER;CN="Paul Memorial Library":MAILTO:staff@newfieldslibrary.org
END:VEVENT
BEGIN:VEVENT
DTSTART;TZID=America/New_York:20260804T113000
DTEND;TZID=America/New_York:20260804T121500
DTSTAMP:20260424T053035
CREATED:20260423T182950Z
LAST-MODIFIED:20260423T182950Z
UID:10000635-1785843000-1785845700@newfieldslibrary.org
SUMMARY:Infant Developmental Playgroup | 1st & 3rd Tuesdays
DESCRIPTION:Join us at the Library on Tuesdays in the cozy meeting room from 1-3pm to play American Mah Jongg! Whether you’re a seasoned player or just curious to learn\, you’re … Continue reading Let’s Play Mah Jongg! Weekly Tuesdays
URL:https://newfieldslibrary.org/event/infant-developmental-playgroup-1st-3rd-tuesdays/2026-08-04/
LOCATION:Paul Memorial Library\, 76 Main Street\, Newfields
CATEGORIES:Infant Playgroup
ATTACH;FMTTYPE=image/png:https://newfieldslibrary.org/wp-content/uploads/2026/04/Infant-Developmental-Playgroup-500-x-400-px.png
ORGANIZER;CN="Paul Memorial Library":MAILTO:staff@newfieldslibrary.org
END:VEVENT
END:VCALENDAR