BEGIN:VCALENDAR
VERSION:2.0
PRODID:-//Paul Memorial Library - ECPv6.15.20//NONSGML v1.0//EN
CALSCALE:GREGORIAN
METHOD:PUBLISH
X-WR-CALNAME:Paul Memorial Library
X-ORIGINAL-URL:https://newfieldslibrary.org
X-WR-CALDESC:Events for Paul Memorial Library
REFRESH-INTERVAL;VALUE=DURATION:PT1H
X-Robots-Tag:noindex
X-PUBLISHED-TTL:PT1H
BEGIN:VTIMEZONE
TZID:America/New_York
BEGIN:DAYLIGHT
TZOFFSETFROM:-0500
TZOFFSETTO:-0400
TZNAME:EDT
DTSTART:20250309T070000
END:DAYLIGHT
BEGIN:STANDARD
TZOFFSETFROM:-0400
TZOFFSETTO:-0500
TZNAME:EST
DTSTART:20251102T060000
END:STANDARD
BEGIN:DAYLIGHT
TZOFFSETFROM:-0500
TZOFFSETTO:-0400
TZNAME:EDT
DTSTART:20260308T070000
END:DAYLIGHT
BEGIN:STANDARD
TZOFFSETFROM:-0400
TZOFFSETTO:-0500
TZNAME:EST
DTSTART:20261101T060000
END:STANDARD
BEGIN:DAYLIGHT
TZOFFSETFROM:-0500
TZOFFSETTO:-0400
TZNAME:EDT
DTSTART:20270314T070000
END:DAYLIGHT
BEGIN:STANDARD
TZOFFSETFROM:-0400
TZOFFSETTO:-0500
TZNAME:EST
DTSTART:20271107T060000
END:STANDARD
END:VTIMEZONE
BEGIN:VEVENT
DTSTART;TZID=America/New_York:20260721T113000
DTEND;TZID=America/New_York:20260721T121500
DTSTAMP:20260424T052958
CREATED:20260423T201903Z
LAST-MODIFIED:20260423T201903Z
UID:10000695-1784633400-1784636100@newfieldslibrary.org
SUMMARY:Infant Developmental Playgroup | 1st & 3rd Tuesdays
DESCRIPTION:Join us at the Library on Tuesdays in the cozy meeting room from 1-3pm to play American Mah Jongg with the "Newfields Rack Pack"! Whether you’re a seasoned player or … Continue reading Let’s Play Mah Jongg! Weekly Tuesdays
URL:https://newfieldslibrary.org/event/infant-developmental-playgroup-1st-3rd-tuesdays-2-2/2026-07-21/
LOCATION:Paul Memorial Library\, 76 Main Street\, Newfields
CATEGORIES:Infant Playgroup
ATTACH;FMTTYPE=image/png:https://newfieldslibrary.org/wp-content/uploads/2026/04/Infant-Developmental-Playgroup-500-x-400-px.png
ORGANIZER;CN="Paul Memorial Library":MAILTO:staff@newfieldslibrary.org
END:VEVENT
BEGIN:VEVENT
DTSTART;TZID=America/New_York:20260721T130000
DTEND;TZID=America/New_York:20260721T150000
DTSTAMP:20260424T052958
CREATED:20260304T050618Z
LAST-MODIFIED:20260423T155740Z
UID:10000326-1784638800-1784646000@newfieldslibrary.org
SUMMARY:Let's Play Mah Jongg! Weekly Tuesdays
DESCRIPTION:Join us at the Library on Tuesdays in the cozy meeting room from 1-3pm to play American Mah Jongg with the "Newfields Rack Pack"! Whether you’re a seasoned player or … Continue reading Let’s Play Mah Jongg! Weekly Tuesdays
URL:https://newfieldslibrary.org/event/lets-play-mah-jongg-weekly-tuesdays-5/2026-07-21/
LOCATION:Paul Memorial Library\, 76 Main Street\, Newfields
CATEGORIES:Mah Jongg
ATTACH;FMTTYPE=image/png:https://newfieldslibrary.org/wp-content/uploads/2025/09/Mah-Jongg-Class-1.png
ORGANIZER;CN="Paul Memorial Library":MAILTO:staff@newfieldslibrary.org
END:VEVENT
BEGIN:VEVENT
DTSTART;TZID=America/New_York:20260722T103000
DTEND;TZID=America/New_York:20260722T111500
DTSTAMP:20260424T052958
CREATED:20260328T151557Z
LAST-MODIFIED:20260423T160214Z
UID:10000586-1784716200-1784718900@newfieldslibrary.org
SUMMARY:Story Time with Mr. Andy | Wednesdays
DESCRIPTION:Join us at the Library on Tuesdays in the cozy meeting room from 1-3pm to play American Mah Jongg with the "Newfields Rack Pack"! Whether you’re a seasoned player or … Continue reading Let’s Play Mah Jongg! Weekly Tuesdays
URL:https://newfieldslibrary.org/event/story-time-with-mr-andy-wednesdays-10/2026-07-22/
LOCATION:Paul Memorial Library\, 76 Main Street\, Newfields
CATEGORIES:Story Times
ATTACH;FMTTYPE=image/png:https://newfieldslibrary.org/wp-content/uploads/2026/01/Preschool-Story-Times-8.png
ORGANIZER;CN="Paul Memorial Library":MAILTO:staff@newfieldslibrary.org
END:VEVENT
BEGIN:VEVENT
DTSTART;TZID=America/New_York:20260728T130000
DTEND;TZID=America/New_York:20260728T150000
DTSTAMP:20260424T052958
CREATED:20260304T050618Z
LAST-MODIFIED:20260423T155740Z
UID:10000327-1785243600-1785250800@newfieldslibrary.org
SUMMARY:Let's Play Mah Jongg! Weekly Tuesdays
DESCRIPTION:Join us at the Library on Tuesdays in the cozy meeting room from 1-3pm to play American Mah Jongg with the "Newfields Rack Pack"! Whether you’re a seasoned player or … Continue reading Let’s Play Mah Jongg! Weekly Tuesdays
URL:https://newfieldslibrary.org/event/lets-play-mah-jongg-weekly-tuesdays-5/2026-07-28/
LOCATION:Paul Memorial Library\, 76 Main Street\, Newfields
CATEGORIES:Mah Jongg
ATTACH;FMTTYPE=image/png:https://newfieldslibrary.org/wp-content/uploads/2025/09/Mah-Jongg-Class-1.png
ORGANIZER;CN="Paul Memorial Library":MAILTO:staff@newfieldslibrary.org
END:VEVENT
BEGIN:VEVENT
DTSTART;TZID=America/New_York:20260729T103000
DTEND;TZID=America/New_York:20260729T111500
DTSTAMP:20260424T052958
CREATED:20260328T151557Z
LAST-MODIFIED:20260423T160214Z
UID:10000587-1785321000-1785323700@newfieldslibrary.org
SUMMARY:Story Time with Mr. Andy | Wednesdays
DESCRIPTION:Join us at the Library on Tuesdays in the cozy meeting room from 1-3pm to play American Mah Jongg with the "Newfields Rack Pack"! Whether you’re a seasoned player or … Continue reading Let’s Play Mah Jongg! Weekly Tuesdays
URL:https://newfieldslibrary.org/event/story-time-with-mr-andy-wednesdays-10/2026-07-29/
LOCATION:Paul Memorial Library\, 76 Main Street\, Newfields
CATEGORIES:Story Times
ATTACH;FMTTYPE=image/png:https://newfieldslibrary.org/wp-content/uploads/2026/01/Preschool-Story-Times-8.png
ORGANIZER;CN="Paul Memorial Library":MAILTO:staff@newfieldslibrary.org
END:VEVENT
BEGIN:VEVENT
DTSTART;TZID=America/New_York:20260804T113000
DTEND;TZID=America/New_York:20260804T121500
DTSTAMP:20260424T052958
CREATED:20260423T182950Z
LAST-MODIFIED:20260423T182950Z
UID:10000635-1785843000-1785845700@newfieldslibrary.org
SUMMARY:Infant Developmental Playgroup | 1st & 3rd Tuesdays
DESCRIPTION:Join us at the Library on Tuesdays in the cozy meeting room from 1-3pm to play American Mah Jongg with the "Newfields Rack Pack"! Whether you’re a seasoned player or … Continue reading Let’s Play Mah Jongg! Weekly Tuesdays
URL:https://newfieldslibrary.org/event/infant-developmental-playgroup-1st-3rd-tuesdays/2026-08-04/
LOCATION:Paul Memorial Library\, 76 Main Street\, Newfields
CATEGORIES:Infant Playgroup
ATTACH;FMTTYPE=image/png:https://newfieldslibrary.org/wp-content/uploads/2026/04/Infant-Developmental-Playgroup-500-x-400-px.png
ORGANIZER;CN="Paul Memorial Library":MAILTO:staff@newfieldslibrary.org
END:VEVENT
BEGIN:VEVENT
DTSTART;TZID=America/New_York:20260804T130000
DTEND;TZID=America/New_York:20260804T150000
DTSTAMP:20260424T052958
CREATED:20260304T050618Z
LAST-MODIFIED:20260423T155740Z
UID:10000328-1785848400-1785855600@newfieldslibrary.org
SUMMARY:Let's Play Mah Jongg! Weekly Tuesdays
DESCRIPTION:Join us at the Library on Tuesdays in the cozy meeting room from 1-3pm to play American Mah Jongg with the "Newfields Rack Pack"! Whether you’re a seasoned player or … Continue reading Let’s Play Mah Jongg! Weekly Tuesdays
URL:https://newfieldslibrary.org/event/lets-play-mah-jongg-weekly-tuesdays-5/2026-08-04/
LOCATION:Paul Memorial Library\, 76 Main Street\, Newfields
CATEGORIES:Mah Jongg
ATTACH;FMTTYPE=image/png:https://newfieldslibrary.org/wp-content/uploads/2025/09/Mah-Jongg-Class-1.png
ORGANIZER;CN="Paul Memorial Library":MAILTO:staff@newfieldslibrary.org
END:VEVENT
BEGIN:VEVENT
DTSTART;TZID=America/New_York:20260805T103000
DTEND;TZID=America/New_York:20260805T111500
DTSTAMP:20260424T052958
CREATED:20260328T151557Z
LAST-MODIFIED:20260423T160214Z
UID:10000588-1785925800-1785928500@newfieldslibrary.org
SUMMARY:Story Time with Mr. Andy | Wednesdays
DESCRIPTION:Join us at the Library on Tuesdays in the cozy meeting room from 1-3pm to play American Mah Jongg with the "Newfields Rack Pack"! Whether you’re a seasoned player or … Continue reading Let’s Play Mah Jongg! Weekly Tuesdays
URL:https://newfieldslibrary.org/event/story-time-with-mr-andy-wednesdays-10/2026-08-05/
LOCATION:Paul Memorial Library\, 76 Main Street\, Newfields
CATEGORIES:Story Times
ATTACH;FMTTYPE=image/png:https://newfieldslibrary.org/wp-content/uploads/2026/01/Preschool-Story-Times-8.png
ORGANIZER;CN="Paul Memorial Library":MAILTO:staff@newfieldslibrary.org
END:VEVENT
BEGIN:VEVENT
DTSTART;TZID=America/New_York:20260811T130000
DTEND;TZID=America/New_York:20260811T150000
DTSTAMP:20260424T052958
CREATED:20260304T050618Z
LAST-MODIFIED:20260423T155740Z
UID:10000329-1786453200-1786460400@newfieldslibrary.org
SUMMARY:Let's Play Mah Jongg! Weekly Tuesdays
DESCRIPTION:Join us at the Library on Tuesdays in the cozy meeting room from 1-3pm to play American Mah Jongg with the "Newfields Rack Pack"! Whether you’re a seasoned player or … Continue reading Let’s Play Mah Jongg! Weekly Tuesdays
URL:https://newfieldslibrary.org/event/lets-play-mah-jongg-weekly-tuesdays-5/2026-08-11/
LOCATION:Paul Memorial Library\, 76 Main Street\, Newfields
CATEGORIES:Mah Jongg
ATTACH;FMTTYPE=image/png:https://newfieldslibrary.org/wp-content/uploads/2025/09/Mah-Jongg-Class-1.png
ORGANIZER;CN="Paul Memorial Library":MAILTO:staff@newfieldslibrary.org
END:VEVENT
BEGIN:VEVENT
DTSTART;TZID=America/New_York:20260812T103000
DTEND;TZID=America/New_York:20260812T111500
DTSTAMP:20260424T052958
CREATED:20260328T151557Z
LAST-MODIFIED:20260423T160214Z
UID:10000589-1786530600-1786533300@newfieldslibrary.org
SUMMARY:Story Time with Mr. Andy | Wednesdays
DESCRIPTION:Join us at the Library on Tuesdays in the cozy meeting room from 1-3pm to play American Mah Jongg with the "Newfields Rack Pack"! Whether you’re a seasoned player or … Continue reading Let’s Play Mah Jongg! Weekly Tuesdays
URL:https://newfieldslibrary.org/event/story-time-with-mr-andy-wednesdays-10/2026-08-12/
LOCATION:Paul Memorial Library\, 76 Main Street\, Newfields
CATEGORIES:Story Times
ATTACH;FMTTYPE=image/png:https://newfieldslibrary.org/wp-content/uploads/2026/01/Preschool-Story-Times-8.png
ORGANIZER;CN="Paul Memorial Library":MAILTO:staff@newfieldslibrary.org
END:VEVENT
BEGIN:VEVENT
DTSTART;TZID=America/New_York:20260818T113000
DTEND;TZID=America/New_York:20260818T121500
DTSTAMP:20260424T052958
CREATED:20260423T201903Z
LAST-MODIFIED:20260423T201903Z
UID:10000696-1787052600-1787055300@newfieldslibrary.org
SUMMARY:Infant Developmental Playgroup | 1st & 3rd Tuesdays
DESCRIPTION:Join us at the Library on Tuesdays in the cozy meeting room from 1-3pm to play American Mah Jongg with the "Newfields Rack Pack"! Whether you’re a seasoned player or … Continue reading Let’s Play Mah Jongg! Weekly Tuesdays
URL:https://newfieldslibrary.org/event/infant-developmental-playgroup-1st-3rd-tuesdays-2-2/2026-08-18/
LOCATION:Paul Memorial Library\, 76 Main Street\, Newfields
CATEGORIES:Infant Playgroup
ATTACH;FMTTYPE=image/png:https://newfieldslibrary.org/wp-content/uploads/2026/04/Infant-Developmental-Playgroup-500-x-400-px.png
ORGANIZER;CN="Paul Memorial Library":MAILTO:staff@newfieldslibrary.org
END:VEVENT
BEGIN:VEVENT
DTSTART;TZID=America/New_York:20260818T130000
DTEND;TZID=America/New_York:20260818T150000
DTSTAMP:20260424T052958
CREATED:20260304T050618Z
LAST-MODIFIED:20260423T155740Z
UID:10000330-1787058000-1787065200@newfieldslibrary.org
SUMMARY:Let's Play Mah Jongg! Weekly Tuesdays
DESCRIPTION:Join us at the Library on Tuesdays in the cozy meeting room from 1-3pm to play American Mah Jongg with the "Newfields Rack Pack"! Whether you’re a seasoned player or … Continue reading Let’s Play Mah Jongg! Weekly Tuesdays
URL:https://newfieldslibrary.org/event/lets-play-mah-jongg-weekly-tuesdays-5/2026-08-18/
LOCATION:Paul Memorial Library\, 76 Main Street\, Newfields
CATEGORIES:Mah Jongg
ATTACH;FMTTYPE=image/png:https://newfieldslibrary.org/wp-content/uploads/2025/09/Mah-Jongg-Class-1.png
ORGANIZER;CN="Paul Memorial Library":MAILTO:staff@newfieldslibrary.org
END:VEVENT
BEGIN:VEVENT
DTSTART;TZID=America/New_York:20260819T103000
DTEND;TZID=America/New_York:20260819T111500
DTSTAMP:20260424T052958
CREATED:20260328T151557Z
LAST-MODIFIED:20260423T160214Z
UID:10000590-1787135400-1787138100@newfieldslibrary.org
SUMMARY:Story Time with Mr. Andy | Wednesdays
DESCRIPTION:Join us at the Library on Tuesdays in the cozy meeting room from 1-3pm to play American Mah Jongg with the "Newfields Rack Pack"! Whether you’re a seasoned player or … Continue reading Let’s Play Mah Jongg! Weekly Tuesdays
URL:https://newfieldslibrary.org/event/story-time-with-mr-andy-wednesdays-10/2026-08-19/
LOCATION:Paul Memorial Library\, 76 Main Street\, Newfields
CATEGORIES:Story Times
ATTACH;FMTTYPE=image/png:https://newfieldslibrary.org/wp-content/uploads/2026/01/Preschool-Story-Times-8.png
ORGANIZER;CN="Paul Memorial Library":MAILTO:staff@newfieldslibrary.org
END:VEVENT
BEGIN:VEVENT
DTSTART;TZID=America/New_York:20260825T130000
DTEND;TZID=America/New_York:20260825T150000
DTSTAMP:20260424T052958
CREATED:20260304T050618Z
LAST-MODIFIED:20260423T155740Z
UID:10000331-1787662800-1787670000@newfieldslibrary.org
SUMMARY:Let's Play Mah Jongg! Weekly Tuesdays
DESCRIPTION:Join us at the Library on Tuesdays in the cozy meeting room from 1-3pm to play American Mah Jongg with the "Newfields Rack Pack"! Whether you’re a seasoned player or … Continue reading Let’s Play Mah Jongg! Weekly Tuesdays
URL:https://newfieldslibrary.org/event/lets-play-mah-jongg-weekly-tuesdays-5/2026-08-25/
LOCATION:Paul Memorial Library\, 76 Main Street\, Newfields
CATEGORIES:Mah Jongg
ATTACH;FMTTYPE=image/png:https://newfieldslibrary.org/wp-content/uploads/2025/09/Mah-Jongg-Class-1.png
ORGANIZER;CN="Paul Memorial Library":MAILTO:staff@newfieldslibrary.org
END:VEVENT
BEGIN:VEVENT
DTSTART;TZID=America/New_York:20260826T103000
DTEND;TZID=America/New_York:20260826T111500
DTSTAMP:20260424T052958
CREATED:20260328T151557Z
LAST-MODIFIED:20260423T160214Z
UID:10000591-1787740200-1787742900@newfieldslibrary.org
SUMMARY:Story Time with Mr. Andy | Wednesdays
DESCRIPTION:Join us at the Library on Tuesdays in the cozy meeting room from 1-3pm to play American Mah Jongg with the "Newfields Rack Pack"! Whether you’re a seasoned player or … Continue reading Let’s Play Mah Jongg! Weekly Tuesdays
URL:https://newfieldslibrary.org/event/story-time-with-mr-andy-wednesdays-10/2026-08-26/
LOCATION:Paul Memorial Library\, 76 Main Street\, Newfields
CATEGORIES:Story Times
ATTACH;FMTTYPE=image/png:https://newfieldslibrary.org/wp-content/uploads/2026/01/Preschool-Story-Times-8.png
ORGANIZER;CN="Paul Memorial Library":MAILTO:staff@newfieldslibrary.org
END:VEVENT
BEGIN:VEVENT
DTSTART;TZID=America/New_York:20260901T113000
DTEND;TZID=America/New_York:20260901T121500
DTSTAMP:20260424T052958
CREATED:20260423T182950Z
LAST-MODIFIED:20260423T182950Z
UID:10000636-1788262200-1788264900@newfieldslibrary.org
SUMMARY:Infant Developmental Playgroup | 1st & 3rd Tuesdays
DESCRIPTION:Join us at the Library on Tuesdays in the cozy meeting room from 1-3pm to play American Mah Jongg with the "Newfields Rack Pack"! Whether you’re a seasoned player or … Continue reading Let’s Play Mah Jongg! Weekly Tuesdays
URL:https://newfieldslibrary.org/event/infant-developmental-playgroup-1st-3rd-tuesdays/2026-09-01/
LOCATION:Paul Memorial Library\, 76 Main Street\, Newfields
CATEGORIES:Infant Playgroup
ATTACH;FMTTYPE=image/png:https://newfieldslibrary.org/wp-content/uploads/2026/04/Infant-Developmental-Playgroup-500-x-400-px.png
ORGANIZER;CN="Paul Memorial Library":MAILTO:staff@newfieldslibrary.org
END:VEVENT
BEGIN:VEVENT
DTSTART;TZID=America/New_York:20260901T130000
DTEND;TZID=America/New_York:20260901T150000
DTSTAMP:20260424T052958
CREATED:20260304T050618Z
LAST-MODIFIED:20260423T155740Z
UID:10000332-1788267600-1788274800@newfieldslibrary.org
SUMMARY:Let's Play Mah Jongg! Weekly Tuesdays
DESCRIPTION:Join us at the Library on Tuesdays in the cozy meeting room from 1-3pm to play American Mah Jongg with the "Newfields Rack Pack"! Whether you’re a seasoned player or … Continue reading Let’s Play Mah Jongg! Weekly Tuesdays
URL:https://newfieldslibrary.org/event/lets-play-mah-jongg-weekly-tuesdays-5/2026-09-01/
LOCATION:Paul Memorial Library\, 76 Main Street\, Newfields
CATEGORIES:Mah Jongg
ATTACH;FMTTYPE=image/png:https://newfieldslibrary.org/wp-content/uploads/2025/09/Mah-Jongg-Class-1.png
ORGANIZER;CN="Paul Memorial Library":MAILTO:staff@newfieldslibrary.org
END:VEVENT
BEGIN:VEVENT
DTSTART;TZID=America/New_York:20260902T103000
DTEND;TZID=America/New_York:20260902T111500
DTSTAMP:20260424T052958
CREATED:20260328T151557Z
LAST-MODIFIED:20260423T160214Z
UID:10000592-1788345000-1788347700@newfieldslibrary.org
SUMMARY:Story Time with Mr. Andy | Wednesdays
DESCRIPTION:Join us at the Library on Tuesdays in the cozy meeting room from 1-3pm to play American Mah Jongg with the "Newfields Rack Pack"! Whether you’re a seasoned player or … Continue reading Let’s Play Mah Jongg! Weekly Tuesdays
URL:https://newfieldslibrary.org/event/story-time-with-mr-andy-wednesdays-10/2026-09-02/
LOCATION:Paul Memorial Library\, 76 Main Street\, Newfields
CATEGORIES:Story Times
ATTACH;FMTTYPE=image/png:https://newfieldslibrary.org/wp-content/uploads/2026/01/Preschool-Story-Times-8.png
ORGANIZER;CN="Paul Memorial Library":MAILTO:staff@newfieldslibrary.org
END:VEVENT
BEGIN:VEVENT
DTSTART;TZID=America/New_York:20260908T130000
DTEND;TZID=America/New_York:20260908T150000
DTSTAMP:20260424T052958
CREATED:20260304T050618Z
LAST-MODIFIED:20260423T155740Z
UID:10000333-1788872400-1788879600@newfieldslibrary.org
SUMMARY:Let's Play Mah Jongg! Weekly Tuesdays
DESCRIPTION:Join us at the Library on Tuesdays in the cozy meeting room from 1-3pm to play American Mah Jongg with the "Newfields Rack Pack"! Whether you’re a seasoned player or … Continue reading Let’s Play Mah Jongg! Weekly Tuesdays
URL:https://newfieldslibrary.org/event/lets-play-mah-jongg-weekly-tuesdays-5/2026-09-08/
LOCATION:Paul Memorial Library\, 76 Main Street\, Newfields
CATEGORIES:Mah Jongg
ATTACH;FMTTYPE=image/png:https://newfieldslibrary.org/wp-content/uploads/2025/09/Mah-Jongg-Class-1.png
ORGANIZER;CN="Paul Memorial Library":MAILTO:staff@newfieldslibrary.org
END:VEVENT
BEGIN:VEVENT
DTSTART;TZID=America/New_York:20260909T103000
DTEND;TZID=America/New_York:20260909T111500
DTSTAMP:20260424T052958
CREATED:20260328T151557Z
LAST-MODIFIED:20260423T160214Z
UID:10000593-1788949800-1788952500@newfieldslibrary.org
SUMMARY:Story Time with Mr. Andy | Wednesdays
DESCRIPTION:Join us at the Library on Tuesdays in the cozy meeting room from 1-3pm to play American Mah Jongg with the "Newfields Rack Pack"! Whether you’re a seasoned player or … Continue reading Let’s Play Mah Jongg! Weekly Tuesdays
URL:https://newfieldslibrary.org/event/story-time-with-mr-andy-wednesdays-10/2026-09-09/
LOCATION:Paul Memorial Library\, 76 Main Street\, Newfields
CATEGORIES:Story Times
ATTACH;FMTTYPE=image/png:https://newfieldslibrary.org/wp-content/uploads/2026/01/Preschool-Story-Times-8.png
ORGANIZER;CN="Paul Memorial Library":MAILTO:staff@newfieldslibrary.org
END:VEVENT
BEGIN:VEVENT
DTSTART;TZID=America/New_York:20260915T113000
DTEND;TZID=America/New_York:20260915T121500
DTSTAMP:20260424T052958
CREATED:20260423T201903Z
LAST-MODIFIED:20260423T201903Z
UID:10000697-1789471800-1789474500@newfieldslibrary.org
SUMMARY:Infant Developmental Playgroup | 1st & 3rd Tuesdays
DESCRIPTION:Join us at the Library on Tuesdays in the cozy meeting room from 1-3pm to play American Mah Jongg with the "Newfields Rack Pack"! Whether you’re a seasoned player or … Continue reading Let’s Play Mah Jongg! Weekly Tuesdays
URL:https://newfieldslibrary.org/event/infant-developmental-playgroup-1st-3rd-tuesdays-2-2/2026-09-15/
LOCATION:Paul Memorial Library\, 76 Main Street\, Newfields
CATEGORIES:Infant Playgroup
ATTACH;FMTTYPE=image/png:https://newfieldslibrary.org/wp-content/uploads/2026/04/Infant-Developmental-Playgroup-500-x-400-px.png
ORGANIZER;CN="Paul Memorial Library":MAILTO:staff@newfieldslibrary.org
END:VEVENT
BEGIN:VEVENT
DTSTART;TZID=America/New_York:20260915T130000
DTEND;TZID=America/New_York:20260915T150000
DTSTAMP:20260424T052959
CREATED:20260304T050618Z
LAST-MODIFIED:20260423T155740Z
UID:10000334-1789477200-1789484400@newfieldslibrary.org
SUMMARY:Let's Play Mah Jongg! Weekly Tuesdays
DESCRIPTION:Join us at the Library on Tuesdays in the cozy meeting room from 1-3pm to play American Mah Jongg with the "Newfields Rack Pack"! Whether you’re a seasoned player or … Continue reading Let’s Play Mah Jongg! Weekly Tuesdays
URL:https://newfieldslibrary.org/event/lets-play-mah-jongg-weekly-tuesdays-5/2026-09-15/
LOCATION:Paul Memorial Library\, 76 Main Street\, Newfields
CATEGORIES:Mah Jongg
ATTACH;FMTTYPE=image/png:https://newfieldslibrary.org/wp-content/uploads/2025/09/Mah-Jongg-Class-1.png
ORGANIZER;CN="Paul Memorial Library":MAILTO:staff@newfieldslibrary.org
END:VEVENT
BEGIN:VEVENT
DTSTART;TZID=America/New_York:20260916T103000
DTEND;TZID=America/New_York:20260916T111500
DTSTAMP:20260424T052959
CREATED:20260328T151557Z
LAST-MODIFIED:20260423T160214Z
UID:10000594-1789554600-1789557300@newfieldslibrary.org
SUMMARY:Story Time with Mr. Andy | Wednesdays
DESCRIPTION:Join us at the Library on Tuesdays in the cozy meeting room from 1-3pm to play American Mah Jongg with the "Newfields Rack Pack"! Whether you’re a seasoned player or … Continue reading Let’s Play Mah Jongg! Weekly Tuesdays
URL:https://newfieldslibrary.org/event/story-time-with-mr-andy-wednesdays-10/2026-09-16/
LOCATION:Paul Memorial Library\, 76 Main Street\, Newfields
CATEGORIES:Story Times
ATTACH;FMTTYPE=image/png:https://newfieldslibrary.org/wp-content/uploads/2026/01/Preschool-Story-Times-8.png
ORGANIZER;CN="Paul Memorial Library":MAILTO:staff@newfieldslibrary.org
END:VEVENT
BEGIN:VEVENT
DTSTART;TZID=America/New_York:20260922T130000
DTEND;TZID=America/New_York:20260922T150000
DTSTAMP:20260424T052959
CREATED:20260304T050618Z
LAST-MODIFIED:20260423T155740Z
UID:10000335-1790082000-1790089200@newfieldslibrary.org
SUMMARY:Let's Play Mah Jongg! Weekly Tuesdays
DESCRIPTION:Join us at the Library on Tuesdays in the cozy meeting room from 1-3pm to play American Mah Jongg with the "Newfields Rack Pack"! Whether you’re a seasoned player or … Continue reading Let’s Play Mah Jongg! Weekly Tuesdays
URL:https://newfieldslibrary.org/event/lets-play-mah-jongg-weekly-tuesdays-5/2026-09-22/
LOCATION:Paul Memorial Library\, 76 Main Street\, Newfields
CATEGORIES:Mah Jongg
ATTACH;FMTTYPE=image/png:https://newfieldslibrary.org/wp-content/uploads/2025/09/Mah-Jongg-Class-1.png
ORGANIZER;CN="Paul Memorial Library":MAILTO:staff@newfieldslibrary.org
END:VEVENT
BEGIN:VEVENT
DTSTART;TZID=America/New_York:20260923T103000
DTEND;TZID=America/New_York:20260923T111500
DTSTAMP:20260424T052959
CREATED:20260328T151557Z
LAST-MODIFIED:20260423T160214Z
UID:10000595-1790159400-1790162100@newfieldslibrary.org
SUMMARY:Story Time with Mr. Andy | Wednesdays
DESCRIPTION:Join us at the Library on Tuesdays in the cozy meeting room from 1-3pm to play American Mah Jongg with the "Newfields Rack Pack"! Whether you’re a seasoned player or … Continue reading Let’s Play Mah Jongg! Weekly Tuesdays
URL:https://newfieldslibrary.org/event/story-time-with-mr-andy-wednesdays-10/2026-09-23/
LOCATION:Paul Memorial Library\, 76 Main Street\, Newfields
CATEGORIES:Story Times
ATTACH;FMTTYPE=image/png:https://newfieldslibrary.org/wp-content/uploads/2026/01/Preschool-Story-Times-8.png
ORGANIZER;CN="Paul Memorial Library":MAILTO:staff@newfieldslibrary.org
END:VEVENT
BEGIN:VEVENT
DTSTART;TZID=America/New_York:20260929T130000
DTEND;TZID=America/New_York:20260929T150000
DTSTAMP:20260424T052959
CREATED:20260304T050618Z
LAST-MODIFIED:20260423T155740Z
UID:10000336-1790686800-1790694000@newfieldslibrary.org
SUMMARY:Let's Play Mah Jongg! Weekly Tuesdays
DESCRIPTION:Join us at the Library on Tuesdays in the cozy meeting room from 1-3pm to play American Mah Jongg with the "Newfields Rack Pack"! Whether you’re a seasoned player or … Continue reading Let’s Play Mah Jongg! Weekly Tuesdays
URL:https://newfieldslibrary.org/event/lets-play-mah-jongg-weekly-tuesdays-5/2026-09-29/
LOCATION:Paul Memorial Library\, 76 Main Street\, Newfields
CATEGORIES:Mah Jongg
ATTACH;FMTTYPE=image/png:https://newfieldslibrary.org/wp-content/uploads/2025/09/Mah-Jongg-Class-1.png
ORGANIZER;CN="Paul Memorial Library":MAILTO:staff@newfieldslibrary.org
END:VEVENT
BEGIN:VEVENT
DTSTART;TZID=America/New_York:20260930T103000
DTEND;TZID=America/New_York:20260930T111500
DTSTAMP:20260424T052959
CREATED:20260328T151557Z
LAST-MODIFIED:20260423T160214Z
UID:10000596-1790764200-1790766900@newfieldslibrary.org
SUMMARY:Story Time with Mr. Andy | Wednesdays
DESCRIPTION:Join us at the Library on Tuesdays in the cozy meeting room from 1-3pm to play American Mah Jongg with the "Newfields Rack Pack"! Whether you’re a seasoned player or … Continue reading Let’s Play Mah Jongg! Weekly Tuesdays
URL:https://newfieldslibrary.org/event/story-time-with-mr-andy-wednesdays-10/2026-09-30/
LOCATION:Paul Memorial Library\, 76 Main Street\, Newfields
CATEGORIES:Story Times
ATTACH;FMTTYPE=image/png:https://newfieldslibrary.org/wp-content/uploads/2026/01/Preschool-Story-Times-8.png
ORGANIZER;CN="Paul Memorial Library":MAILTO:staff@newfieldslibrary.org
END:VEVENT
BEGIN:VEVENT
DTSTART;TZID=America/New_York:20261006T113000
DTEND;TZID=America/New_York:20261006T121500
DTSTAMP:20260424T052959
CREATED:20260423T182950Z
LAST-MODIFIED:20260423T182950Z
UID:10000637-1791286200-1791288900@newfieldslibrary.org
SUMMARY:Infant Developmental Playgroup | 1st & 3rd Tuesdays
DESCRIPTION:Join us at the Library on Tuesdays in the cozy meeting room from 1-3pm to play American Mah Jongg with the "Newfields Rack Pack"! Whether you’re a seasoned player or … Continue reading Let’s Play Mah Jongg! Weekly Tuesdays
URL:https://newfieldslibrary.org/event/infant-developmental-playgroup-1st-3rd-tuesdays/2026-10-06/
LOCATION:Paul Memorial Library\, 76 Main Street\, Newfields
CATEGORIES:Infant Playgroup
ATTACH;FMTTYPE=image/png:https://newfieldslibrary.org/wp-content/uploads/2026/04/Infant-Developmental-Playgroup-500-x-400-px.png
ORGANIZER;CN="Paul Memorial Library":MAILTO:staff@newfieldslibrary.org
END:VEVENT
BEGIN:VEVENT
DTSTART;TZID=America/New_York:20261006T130000
DTEND;TZID=America/New_York:20261006T150000
DTSTAMP:20260424T052959
CREATED:20260304T050618Z
LAST-MODIFIED:20260423T155740Z
UID:10000337-1791291600-1791298800@newfieldslibrary.org
SUMMARY:Let's Play Mah Jongg! Weekly Tuesdays
DESCRIPTION:Join us at the Library on Tuesdays in the cozy meeting room from 1-3pm to play American Mah Jongg with the "Newfields Rack Pack"! Whether you’re a seasoned player or … Continue reading Let’s Play Mah Jongg! Weekly Tuesdays
URL:https://newfieldslibrary.org/event/lets-play-mah-jongg-weekly-tuesdays-5/2026-10-06/
LOCATION:Paul Memorial Library\, 76 Main Street\, Newfields
CATEGORIES:Mah Jongg
ATTACH;FMTTYPE=image/png:https://newfieldslibrary.org/wp-content/uploads/2025/09/Mah-Jongg-Class-1.png
ORGANIZER;CN="Paul Memorial Library":MAILTO:staff@newfieldslibrary.org
END:VEVENT
BEGIN:VEVENT
DTSTART;TZID=America/New_York:20261007T103000
DTEND;TZID=America/New_York:20261007T111500
DTSTAMP:20260424T052959
CREATED:20260328T151557Z
LAST-MODIFIED:20260423T160214Z
UID:10000597-1791369000-1791371700@newfieldslibrary.org
SUMMARY:Story Time with Mr. Andy | Wednesdays
DESCRIPTION:Join us at the Library on Tuesdays in the cozy meeting room from 1-3pm to play American Mah Jongg with the "Newfields Rack Pack"! Whether you’re a seasoned player or … Continue reading Let’s Play Mah Jongg! Weekly Tuesdays
URL:https://newfieldslibrary.org/event/story-time-with-mr-andy-wednesdays-10/2026-10-07/
LOCATION:Paul Memorial Library\, 76 Main Street\, Newfields
CATEGORIES:Story Times
ATTACH;FMTTYPE=image/png:https://newfieldslibrary.org/wp-content/uploads/2026/01/Preschool-Story-Times-8.png
ORGANIZER;CN="Paul Memorial Library":MAILTO:staff@newfieldslibrary.org
END:VEVENT
END:VCALENDAR